BEGIN:VCALENDAR
VERSION:2.0
PRODID:-//Le Boui Boui du Pays - ECPv6.15.20//NONSGML v1.0//EN
CALSCALE:GREGORIAN
METHOD:PUBLISH
X-WR-CALNAME:Le Boui Boui du Pays
X-ORIGINAL-URL:https://lebouibouidupays.fr
X-WR-CALDESC:Évènements pour Le Boui Boui du Pays
REFRESH-INTERVAL;VALUE=DURATION:PT1H
X-Robots-Tag:noindex
X-PUBLISHED-TTL:PT1H
BEGIN:VTIMEZONE
TZID:Europe/Paris
BEGIN:DAYLIGHT
TZOFFSETFROM:+0100
TZOFFSETTO:+0200
TZNAME:CEST
DTSTART:20240331T010000
END:DAYLIGHT
BEGIN:STANDARD
TZOFFSETFROM:+0200
TZOFFSETTO:+0100
TZNAME:CET
DTSTART:20241027T010000
END:STANDARD
BEGIN:DAYLIGHT
TZOFFSETFROM:+0100
TZOFFSETTO:+0200
TZNAME:CEST
DTSTART:20250330T010000
END:DAYLIGHT
BEGIN:STANDARD
TZOFFSETFROM:+0200
TZOFFSETTO:+0100
TZNAME:CET
DTSTART:20251026T010000
END:STANDARD
BEGIN:DAYLIGHT
TZOFFSETFROM:+0100
TZOFFSETTO:+0200
TZNAME:CEST
DTSTART:20260329T010000
END:DAYLIGHT
BEGIN:STANDARD
TZOFFSETFROM:+0200
TZOFFSETTO:+0100
TZNAME:CET
DTSTART:20261025T010000
END:STANDARD
END:VTIMEZONE
BEGIN:VEVENT
DTSTART;TZID=Europe/Paris:20250927T193000
DTEND;TZID=Europe/Paris:20250927T220000
DTSTAMP:20260420T165542
CREATED:20250919T141832Z
LAST-MODIFIED:20250919T141936Z
UID:2377-1759001400-1759010400@lebouibouidupays.fr
SUMMARY:Canela & Clavo
DESCRIPTION:Canela & Clavo\, le duo artistique dont le nom évoque les arômes et les saveurs de l’Iran\, du Chili et de l’Espagne\, est une fusion vibrante des cultures\, des histoires et de la poésie. \nInspirés par leurs racines et leurs expériences\, Canela & Clavo ont tissé un tapis sonore musical qui célèbre la pluralité des influences. \nL’essence théâtrale et émotive de l’Iran\, la passion du flamenco espagnol et du riche patrimoine latino-américain convergent dans leur travail\, créant une expérience unique qui\, emmenant les auditeurs dans un voyage sonore\, embrasse la diversité et transcende les barrières culturelles. \n \n \nCanela i Clavo – World music and storytelling \n \n 
URL:https://lebouibouidupays.fr/calendrier/canela-clavo/
LOCATION:Le Boui Boui du Pays\, le Boui Boui du Pays\, Varen\, 82330\, France
CATEGORIES:Concert
ATTACH;FMTTYPE=image/webp:https://lebouibouidupays.fr/wp-content/uploads/2025/09/Etno-Fusion-Weltmusik-Flamenco-Canela-y-Clavo-2.webp
END:VEVENT
END:VCALENDAR