BEGIN:VCALENDAR
VERSION:2.0
PRODID:-//Le Boui Boui du Pays - ECPv6.15.20//NONSGML v1.0//EN
CALSCALE:GREGORIAN
METHOD:PUBLISH
X-WR-CALNAME:Le Boui Boui du Pays
X-ORIGINAL-URL:https://lebouibouidupays.fr
X-WR-CALDESC:Évènements pour Le Boui Boui du Pays
REFRESH-INTERVAL;VALUE=DURATION:PT1H
X-Robots-Tag:noindex
X-PUBLISHED-TTL:PT1H
BEGIN:VTIMEZONE
TZID:Europe/Paris
BEGIN:DAYLIGHT
TZOFFSETFROM:+0100
TZOFFSETTO:+0200
TZNAME:CEST
DTSTART:20240331T010000
END:DAYLIGHT
BEGIN:STANDARD
TZOFFSETFROM:+0200
TZOFFSETTO:+0100
TZNAME:CET
DTSTART:20241027T010000
END:STANDARD
BEGIN:DAYLIGHT
TZOFFSETFROM:+0100
TZOFFSETTO:+0200
TZNAME:CEST
DTSTART:20250330T010000
END:DAYLIGHT
BEGIN:STANDARD
TZOFFSETFROM:+0200
TZOFFSETTO:+0100
TZNAME:CET
DTSTART:20251026T010000
END:STANDARD
BEGIN:DAYLIGHT
TZOFFSETFROM:+0100
TZOFFSETTO:+0200
TZNAME:CEST
DTSTART:20260329T010000
END:DAYLIGHT
BEGIN:STANDARD
TZOFFSETFROM:+0200
TZOFFSETTO:+0100
TZNAME:CET
DTSTART:20261025T010000
END:STANDARD
END:VTIMEZONE
BEGIN:VEVENT
DTSTART;TZID=Europe/Paris:20250912T200000
DTEND;TZID=Europe/Paris:20250912T220000
DTSTAMP:20260420T165450
CREATED:20250822T084239Z
LAST-MODIFIED:20250822T084239Z
UID:2318-1757707200-1757714400@lebouibouidupays.fr
SUMMARY:Gadjo Zaz Duo
DESCRIPTION:Retrouvez le 12 septembre prochain le GADJO ZAZ en duo au Boui boui du Pays pour une soirée de jazz swing et burlesque. La formule est simple : une guitare et une contrebasse\, 2 musiciens chanteurs\, le décor des lampions d’une guinguette et en quelques notes vous visiterez l’Amérique\, l’Afrique et l’Orient à bord d’une pirogue ou d’un transatlantique et parlerez le mandarin l’âme slave en visitant Istanbul sur un air de mambo.\nUn peu clowns\, un peu poètes\, un peu chansonniers\, ces deux derviches tourneurs du jazz deviendront vos amis pour la vie dès leurs premiers accords… \n 
URL:https://lebouibouidupays.fr/calendrier/gadjo-zaz-duo/
LOCATION:Le Boui Boui du Pays\, le Boui Boui du Pays\, Varen\, 82330\, France
CATEGORIES:Concert
ATTACH;FMTTYPE=image/jpeg:https://lebouibouidupays.fr/wp-content/uploads/2025/08/FLYER-duo-.jpg
END:VEVENT
END:VCALENDAR