BEGIN:VCALENDAR
VERSION:2.0
PRODID:-//Le Boui Boui du Pays - ECPv6.15.20//NONSGML v1.0//EN
CALSCALE:GREGORIAN
METHOD:PUBLISH
X-ORIGINAL-URL:https://lebouibouidupays.fr
X-WR-CALDESC:Évènements pour Le Boui Boui du Pays
REFRESH-INTERVAL;VALUE=DURATION:PT1H
X-Robots-Tag:noindex
X-PUBLISHED-TTL:PT1H
BEGIN:VTIMEZONE
TZID:Europe/Paris
BEGIN:DAYLIGHT
TZOFFSETFROM:+0100
TZOFFSETTO:+0200
TZNAME:CEST
DTSTART:20240331T010000
END:DAYLIGHT
BEGIN:STANDARD
TZOFFSETFROM:+0200
TZOFFSETTO:+0100
TZNAME:CET
DTSTART:20241027T010000
END:STANDARD
BEGIN:DAYLIGHT
TZOFFSETFROM:+0100
TZOFFSETTO:+0200
TZNAME:CEST
DTSTART:20250330T010000
END:DAYLIGHT
BEGIN:STANDARD
TZOFFSETFROM:+0200
TZOFFSETTO:+0100
TZNAME:CET
DTSTART:20251026T010000
END:STANDARD
BEGIN:DAYLIGHT
TZOFFSETFROM:+0100
TZOFFSETTO:+0200
TZNAME:CEST
DTSTART:20260329T010000
END:DAYLIGHT
BEGIN:STANDARD
TZOFFSETFROM:+0200
TZOFFSETTO:+0100
TZNAME:CET
DTSTART:20261025T010000
END:STANDARD
END:VTIMEZONE
BEGIN:VEVENT
DTSTART;TZID=Europe/Paris:20250824T200000
DTEND;TZID=Europe/Paris:20250824T220000
DTSTAMP:20260420T184811
CREATED:20250821T074839Z
LAST-MODIFIED:20250821T074839Z
UID:2305-1756065600-1756072800@lebouibouidupays.fr
SUMMARY:Triominots
DESCRIPTION:Depuis bientôt 2 ans\, ces trois jeunes minots remplis de malice\, de\ncomplicité et de malice oscillent entre tradition du jazz swing et modernité du fusion. Ils comptent bien vous entraînez avec eux dans leur énergie de grands enfants et leur joie de faire du bruit sur scène. C’est au travers de compositions originales et d’arrangements que Triominots forge son identité :\nEt si Moanin’ des Jazz Messengers était en fait de la jungle ?\nLe standard Oléo avec des passages Hip-Hop ?\nAvis aux « puristes » de jazz\, gardez votre calme\, Triominots contrôle la situation (à peu près). \n \n \n 
URL:https://lebouibouidupays.fr/calendrier/triominots/
LOCATION:Le Boui Boui du Pays\, le Boui Boui du Pays\, Varen\, 82330\, France
CATEGORIES:Concert
ATTACH;FMTTYPE=image/jpeg:https://lebouibouidupays.fr/wp-content/uploads/2025/08/Trio-swing-jazz-fusion-jungle.jpg
END:VEVENT
END:VCALENDAR