BEGIN:VCALENDAR
VERSION:2.0
PRODID:-//Le Boui Boui du Pays - ECPv6.15.20//NONSGML v1.0//EN
CALSCALE:GREGORIAN
METHOD:PUBLISH
X-ORIGINAL-URL:https://lebouibouidupays.fr
X-WR-CALDESC:Évènements pour Le Boui Boui du Pays
REFRESH-INTERVAL;VALUE=DURATION:PT1H
X-Robots-Tag:noindex
X-PUBLISHED-TTL:PT1H
BEGIN:VTIMEZONE
TZID:Europe/Paris
BEGIN:DAYLIGHT
TZOFFSETFROM:+0100
TZOFFSETTO:+0200
TZNAME:CEST
DTSTART:20240331T010000
END:DAYLIGHT
BEGIN:STANDARD
TZOFFSETFROM:+0200
TZOFFSETTO:+0100
TZNAME:CET
DTSTART:20241027T010000
END:STANDARD
BEGIN:DAYLIGHT
TZOFFSETFROM:+0100
TZOFFSETTO:+0200
TZNAME:CEST
DTSTART:20250330T010000
END:DAYLIGHT
BEGIN:STANDARD
TZOFFSETFROM:+0200
TZOFFSETTO:+0100
TZNAME:CET
DTSTART:20251026T010000
END:STANDARD
BEGIN:DAYLIGHT
TZOFFSETFROM:+0100
TZOFFSETTO:+0200
TZNAME:CEST
DTSTART:20260329T010000
END:DAYLIGHT
BEGIN:STANDARD
TZOFFSETFROM:+0200
TZOFFSETTO:+0100
TZNAME:CET
DTSTART:20261025T010000
END:STANDARD
END:VTIMEZONE
BEGIN:VEVENT
DTSTART;TZID=Europe/Paris:20250822T200000
DTEND;TZID=Europe/Paris:20250822T223000
DTSTAMP:20260420T184837
CREATED:20250819T103913Z
LAST-MODIFIED:20250819T103913Z
UID:2284-1755892800-1755901800@lebouibouidupays.fr
SUMMARY:Marco Grancelli
DESCRIPTION:Le guitariste et chanteur argentin Marco Grancelli\, installé à Toulouse\, propose un concert intimiste où ses compositions originales\, inspirées de rythmes traditionnels tels que zambas\, chacareras\, vidalas argentines\, valses et marineras péruviennes ou huaynos andins\, se mêlent à la force de sa guitare et à une voix habitée d’histoires. Une invitation à redécouvrir le folklore sud-américain à travers un regard personnel et actuel. \n \n \n 
URL:https://lebouibouidupays.fr/calendrier/marco-grancelli/
LOCATION:Le Boui Boui du Pays\, le Boui Boui du Pays\, Varen\, 82330\, France
CATEGORIES:Concert
ATTACH;FMTTYPE=image/jpeg:https://lebouibouidupays.fr/wp-content/uploads/2025/08/2405_MARCO_052.jpg
END:VEVENT
END:VCALENDAR