BEGIN:VCALENDAR
VERSION:2.0
PRODID:-//Le Boui Boui du Pays - ECPv6.15.20//NONSGML v1.0//EN
CALSCALE:GREGORIAN
METHOD:PUBLISH
X-WR-CALNAME:Le Boui Boui du Pays
X-ORIGINAL-URL:https://lebouibouidupays.fr
X-WR-CALDESC:Évènements pour Le Boui Boui du Pays
REFRESH-INTERVAL;VALUE=DURATION:PT1H
X-Robots-Tag:noindex
X-PUBLISHED-TTL:PT1H
BEGIN:VTIMEZONE
TZID:Europe/Paris
BEGIN:DAYLIGHT
TZOFFSETFROM:+0100
TZOFFSETTO:+0200
TZNAME:CEST
DTSTART:20240331T010000
END:DAYLIGHT
BEGIN:STANDARD
TZOFFSETFROM:+0200
TZOFFSETTO:+0100
TZNAME:CET
DTSTART:20241027T010000
END:STANDARD
BEGIN:DAYLIGHT
TZOFFSETFROM:+0100
TZOFFSETTO:+0200
TZNAME:CEST
DTSTART:20250330T010000
END:DAYLIGHT
BEGIN:STANDARD
TZOFFSETFROM:+0200
TZOFFSETTO:+0100
TZNAME:CET
DTSTART:20251026T010000
END:STANDARD
BEGIN:DAYLIGHT
TZOFFSETFROM:+0100
TZOFFSETTO:+0200
TZNAME:CEST
DTSTART:20260329T010000
END:DAYLIGHT
BEGIN:STANDARD
TZOFFSETFROM:+0200
TZOFFSETTO:+0100
TZNAME:CET
DTSTART:20261025T010000
END:STANDARD
END:VTIMEZONE
BEGIN:VEVENT
DTSTART;TZID=Europe/Paris:20250812T193000
DTEND;TZID=Europe/Paris:20250812T220000
DTSTAMP:20260420T184530
CREATED:20250715T093923Z
LAST-MODIFIED:20250715T093923Z
UID:2177-1755027000-1755036000@lebouibouidupays.fr
SUMMARY:Ben Jacobacci
DESCRIPTION:The B-Blues Company\, combo un et indivisible au caractère singulier. \n« Deux pieds plus deux mains plus deux cordes vocales égalent six bonnes raisons de former un groupe »\, s’est dit un jour Ben Jacobacci\, après presque 30 ans passés à écumer les bistrots à concerts du sud et d’ailleurs avec diverses formations telles que Mascantes\, The Juke Joints Band\, Les Chromatisés\, Sealsia\, Gregg et d’autres encore. \nC’est donc début 2023 qu’il se lance dans l’aventure\, armé de tous ses membres plus soudés que jamais. Fort d’un répertoire de compositions originales\, parsemé çà et là de standards réarrangés à sa sauce empoisonnée\, Ben réveille le bon vieux blues du Delta à coups de grosse caisse\, le parfume de saveurs africaines\, lui redonne un petit coup de jeunesse en lui injectant quelques doses de groove\, dans le plus grand respect des grands anciens\, John Lee Hooker\, Robert Johnson\, RL Burnside\, JB Lenoir\, Howling Wolf et tant d’autres. \nEn mars 2024 est sorti son premier album « Cave Bear Blues »\, salué par la critique\, présentant huit compositions et deux standards. « Avoir une orchestration aussi réussie avec les petits moyens d’un one man band est une vraie prouesse. […] la mélodie et l’ambiance Deep Blues est parfaite. Cet album est un bonheur pour les amateurs de blues vintage […]» –  Blues Magazine\, juin 2024.  \nNe vous fiez pas aux apparences\, sous des dehors ombrageux\, il cache un vrai caractère d’ours des cavernes. Son blues lui ressemble.
URL:https://lebouibouidupays.fr/calendrier/ben-jacobacci/
LOCATION:Le Boui Boui du Pays\, le Boui Boui du Pays\, Varen\, 82330\, France
CATEGORIES:Concert
ATTACH;FMTTYPE=image/jpeg:https://lebouibouidupays.fr/wp-content/uploads/2025/07/DSC0125-copie-scaled.jpg
END:VEVENT
END:VCALENDAR