BEGIN:VCALENDAR
VERSION:2.0
PRODID:-//Le Boui Boui du Pays - ECPv6.15.20//NONSGML v1.0//EN
CALSCALE:GREGORIAN
METHOD:PUBLISH
X-WR-CALNAME:Le Boui Boui du Pays
X-ORIGINAL-URL:https://lebouibouidupays.fr
X-WR-CALDESC:Évènements pour Le Boui Boui du Pays
REFRESH-INTERVAL;VALUE=DURATION:PT1H
X-Robots-Tag:noindex
X-PUBLISHED-TTL:PT1H
BEGIN:VTIMEZONE
TZID:Europe/Paris
BEGIN:DAYLIGHT
TZOFFSETFROM:+0100
TZOFFSETTO:+0200
TZNAME:CEST
DTSTART:20240331T010000
END:DAYLIGHT
BEGIN:STANDARD
TZOFFSETFROM:+0200
TZOFFSETTO:+0100
TZNAME:CET
DTSTART:20241027T010000
END:STANDARD
BEGIN:DAYLIGHT
TZOFFSETFROM:+0100
TZOFFSETTO:+0200
TZNAME:CEST
DTSTART:20250330T010000
END:DAYLIGHT
BEGIN:STANDARD
TZOFFSETFROM:+0200
TZOFFSETTO:+0100
TZNAME:CET
DTSTART:20251026T010000
END:STANDARD
BEGIN:DAYLIGHT
TZOFFSETFROM:+0100
TZOFFSETTO:+0200
TZNAME:CEST
DTSTART:20260329T010000
END:DAYLIGHT
BEGIN:STANDARD
TZOFFSETFROM:+0200
TZOFFSETTO:+0100
TZNAME:CET
DTSTART:20261025T010000
END:STANDARD
END:VTIMEZONE
BEGIN:VEVENT
DTSTART;TZID=Europe/Paris:20250807T193000
DTEND;TZID=Europe/Paris:20250807T220000
DTSTAMP:20260420T184624
CREATED:20250716T130721Z
LAST-MODIFIED:20250716T130721Z
UID:2188-1754595000-1754604000@lebouibouidupays.fr
SUMMARY:Le Royal Bonof
DESCRIPTION:Le « Royal Bonof »\, c’est d’abord Bonof\, énigmatique chanteur banjoïste qui depuis des années cisèle un répertoire personnel en puisant ses inspirations nul ne sait où… on pourra y déceler les influences de l’afro-beat de Fela\, des fanfares balkaniques ou de l’ethio-jazz… C’est aussi le « Royal » parce que l’orchestre\, composé d’un groupe complice de musiciens de qualité ne fait pas dans l’économie : une section cuivre\, des chœurs\, basse\, batterie\, banjo. Tout cela donne une musique originale et festive\, servie chaude et cuivrée.
URL:https://lebouibouidupays.fr/calendrier/le-royal-bonof/
LOCATION:Le Boui Boui du Pays\, le Boui Boui du Pays\, Varen\, 82330\, France
CATEGORIES:Concert
ATTACH;FMTTYPE=image/jpeg:https://lebouibouidupays.fr/wp-content/uploads/2025/07/affiche-A3-2024.jpg
END:VEVENT
END:VCALENDAR