BEGIN:VCALENDAR
VERSION:2.0
PRODID:-//Le Boui Boui du Pays - ECPv6.15.20//NONSGML v1.0//EN
CALSCALE:GREGORIAN
METHOD:PUBLISH
X-WR-CALNAME:Le Boui Boui du Pays
X-ORIGINAL-URL:https://lebouibouidupays.fr
X-WR-CALDESC:Évènements pour Le Boui Boui du Pays
REFRESH-INTERVAL;VALUE=DURATION:PT1H
X-Robots-Tag:noindex
X-PUBLISHED-TTL:PT1H
BEGIN:VTIMEZONE
TZID:Europe/Paris
BEGIN:DAYLIGHT
TZOFFSETFROM:+0100
TZOFFSETTO:+0200
TZNAME:CEST
DTSTART:20240331T010000
END:DAYLIGHT
BEGIN:STANDARD
TZOFFSETFROM:+0200
TZOFFSETTO:+0100
TZNAME:CET
DTSTART:20241027T010000
END:STANDARD
BEGIN:DAYLIGHT
TZOFFSETFROM:+0100
TZOFFSETTO:+0200
TZNAME:CEST
DTSTART:20250330T010000
END:DAYLIGHT
BEGIN:STANDARD
TZOFFSETFROM:+0200
TZOFFSETTO:+0100
TZNAME:CET
DTSTART:20251026T010000
END:STANDARD
BEGIN:DAYLIGHT
TZOFFSETFROM:+0100
TZOFFSETTO:+0200
TZNAME:CEST
DTSTART:20260329T010000
END:DAYLIGHT
BEGIN:STANDARD
TZOFFSETFROM:+0200
TZOFFSETTO:+0100
TZNAME:CET
DTSTART:20261025T010000
END:STANDARD
END:VTIMEZONE
BEGIN:VEVENT
DTSTART;TZID=Europe/Paris:20250727T193000
DTEND;TZID=Europe/Paris:20250727T220000
DTSTAMP:20260420T205306
CREATED:20250630T160054Z
LAST-MODIFIED:20250630T193849Z
UID:2102-1753644600-1753653600@lebouibouidupays.fr
SUMMARY:TerrasseKo
DESCRIPTION:  \nLe TerrasseKo est un groupe toulousain qui propose un spectacle dans le plus pur esprit de l’afrobeat\, avec de nombreuses compositions originales\, et des reprises de Fela Kuti et de Kokoroko. Nos morceaux intenses transportent le public et les musiciens dans une énergie commune de transe.Pour ce faire\,  le public sera amené à danser et chanter au cours d’un concert pouvant durer jusqu’à 3h.Composition du groupe : \n\n4 saxophones (soprano\, alto\, ténor\, baryton)\n1 clavier synthé\n1 guitare\n1 basse\n1 batterie\n1 percu (congas\, bongos\, carillons\,…)\n1 chœur de chant ( fait par les musiciens )
URL:https://lebouibouidupays.fr/calendrier/terrasseko/
LOCATION:Le Boui Boui du Pays\, le Boui Boui du Pays\, Varen\, 82330\, France
CATEGORIES:Concert
ATTACH;FMTTYPE=image/jpeg:https://lebouibouidupays.fr/wp-content/uploads/2025/06/TerrasseKo-Com-scaled.jpg
END:VEVENT
END:VCALENDAR