BEGIN:VCALENDAR
VERSION:2.0
PRODID:-//Le Boui Boui du Pays - ECPv6.15.20//NONSGML v1.0//EN
CALSCALE:GREGORIAN
METHOD:PUBLISH
X-WR-CALNAME:Le Boui Boui du Pays
X-ORIGINAL-URL:https://lebouibouidupays.fr
X-WR-CALDESC:Évènements pour Le Boui Boui du Pays
REFRESH-INTERVAL;VALUE=DURATION:PT1H
X-Robots-Tag:noindex
X-PUBLISHED-TTL:PT1H
BEGIN:VTIMEZONE
TZID:Europe/Paris
BEGIN:DAYLIGHT
TZOFFSETFROM:+0100
TZOFFSETTO:+0200
TZNAME:CEST
DTSTART:20240331T010000
END:DAYLIGHT
BEGIN:STANDARD
TZOFFSETFROM:+0200
TZOFFSETTO:+0100
TZNAME:CET
DTSTART:20241027T010000
END:STANDARD
BEGIN:DAYLIGHT
TZOFFSETFROM:+0100
TZOFFSETTO:+0200
TZNAME:CEST
DTSTART:20250330T010000
END:DAYLIGHT
BEGIN:STANDARD
TZOFFSETFROM:+0200
TZOFFSETTO:+0100
TZNAME:CET
DTSTART:20251026T010000
END:STANDARD
BEGIN:DAYLIGHT
TZOFFSETFROM:+0100
TZOFFSETTO:+0200
TZNAME:CEST
DTSTART:20260329T010000
END:DAYLIGHT
BEGIN:STANDARD
TZOFFSETFROM:+0200
TZOFFSETTO:+0100
TZNAME:CET
DTSTART:20261025T010000
END:STANDARD
END:VTIMEZONE
BEGIN:VEVENT
DTSTART;TZID=Europe/Paris:20250718T193000
DTEND;TZID=Europe/Paris:20250718T220000
DTSTAMP:20260420T205143
CREATED:20250715T090108Z
LAST-MODIFIED:20250715T090108Z
UID:2162-1752867000-1752876000@lebouibouidupays.fr
SUMMARY:Dizumba
DESCRIPTION:«Danser\, chanter\, rire\, ou crier est inévitable durant le rendez-vous musical avec Dizumba.\nCe trio toulousain composé de batterie\, basse et guitare navigue entre la cumbia\, le funk\, l’afrobeat\, le maloya\, soukous\, la musique de la fête comme veut dire son nom. Avec Juan à la basse/chant\, Tim à la batterie/chant et Ismael à la guitare/chant.» \n– Tim Alcorn – Batterie & chant\n– Juan Kowalczewski – Basse & chant\n– Ismael Suama – Guitare & chant
URL:https://lebouibouidupays.fr/calendrier/dizumba/
LOCATION:Le Boui Boui du Pays\, le Boui Boui du Pays\, Varen\, 82330\, France
CATEGORIES:Concert
ATTACH;FMTTYPE=image/jpeg:https://lebouibouidupays.fr/wp-content/uploads/2025/07/Dizumba.jpeg
END:VEVENT
END:VCALENDAR