BEGIN:VCALENDAR
VERSION:2.0
PRODID:-//Le Boui Boui du Pays - ECPv6.15.20//NONSGML v1.0//EN
CALSCALE:GREGORIAN
METHOD:PUBLISH
X-ORIGINAL-URL:https://lebouibouidupays.fr
X-WR-CALDESC:Évènements pour Le Boui Boui du Pays
REFRESH-INTERVAL;VALUE=DURATION:PT1H
X-Robots-Tag:noindex
X-PUBLISHED-TTL:PT1H
BEGIN:VTIMEZONE
TZID:Europe/Paris
BEGIN:DAYLIGHT
TZOFFSETFROM:+0100
TZOFFSETTO:+0200
TZNAME:CEST
DTSTART:20240331T010000
END:DAYLIGHT
BEGIN:STANDARD
TZOFFSETFROM:+0200
TZOFFSETTO:+0100
TZNAME:CET
DTSTART:20241027T010000
END:STANDARD
BEGIN:DAYLIGHT
TZOFFSETFROM:+0100
TZOFFSETTO:+0200
TZNAME:CEST
DTSTART:20250330T010000
END:DAYLIGHT
BEGIN:STANDARD
TZOFFSETFROM:+0200
TZOFFSETTO:+0100
TZNAME:CET
DTSTART:20251026T010000
END:STANDARD
BEGIN:DAYLIGHT
TZOFFSETFROM:+0100
TZOFFSETTO:+0200
TZNAME:CEST
DTSTART:20260329T010000
END:DAYLIGHT
BEGIN:STANDARD
TZOFFSETFROM:+0200
TZOFFSETTO:+0100
TZNAME:CET
DTSTART:20261025T010000
END:STANDARD
END:VTIMEZONE
BEGIN:VEVENT
DTSTART;TZID=Europe/Paris:20250715T193000
DTEND;TZID=Europe/Paris:20250715T220000
DTSTAMP:20260420T205537
CREATED:20250630T111418Z
LAST-MODIFIED:20250630T111418Z
UID:2086-1752607800-1752616800@lebouibouidupays.fr
SUMMARY:Moon Naïm & El Mizen
DESCRIPTION:Nous aurons le plaisir d’accueillir  cette année encore Moon Naïm & El Mizen pour un concert de MAGHREB AFROBEAT avec  Stéphane Gratteau à la batterie ! \nGnawa\, Afrobeat\, Afrique du nord\, Afrodescendance\, Amazigh\nEl Emtel (Les proverbes) est le 1er titre du projet Moon Naïm & El Mizen \, qui mêle la musique Gnawiya et les chants et rythmes d’Afrique du nord à d’autres musiques Afro caribéennes ou du Sahel\, pour créer un genre appelé MAGHREB AFROBEAT.\nAvec:\nFermin Orlando à la guitare et aux choeurs\nAntoine Mader au trombone\, claviers et choeurs\nStephane Gratteau à la batterie\nMounaïm Rabahi » Moon Naïm » au Guembri\, chant et percussions
URL:https://lebouibouidupays.fr/calendrier/moon-naim-el-mizen/
LOCATION:Le Boui Boui du Pays\, le Boui Boui du Pays\, Varen\, 82330\, France
CATEGORIES:Concert
ATTACH;FMTTYPE=image/jpeg:https://lebouibouidupays.fr/wp-content/uploads/2025/06/Moon-Naim-El-Mizen.jpg
END:VEVENT
END:VCALENDAR