BEGIN:VCALENDAR
VERSION:2.0
PRODID:-//Le Boui Boui du Pays - ECPv6.15.20//NONSGML v1.0//EN
CALSCALE:GREGORIAN
METHOD:PUBLISH
X-WR-CALNAME:Le Boui Boui du Pays
X-ORIGINAL-URL:https://lebouibouidupays.fr
X-WR-CALDESC:Évènements pour Le Boui Boui du Pays
REFRESH-INTERVAL;VALUE=DURATION:PT1H
X-Robots-Tag:noindex
X-PUBLISHED-TTL:PT1H
BEGIN:VTIMEZONE
TZID:Europe/Paris
BEGIN:DAYLIGHT
TZOFFSETFROM:+0100
TZOFFSETTO:+0200
TZNAME:CEST
DTSTART:20240331T010000
END:DAYLIGHT
BEGIN:STANDARD
TZOFFSETFROM:+0200
TZOFFSETTO:+0100
TZNAME:CET
DTSTART:20241027T010000
END:STANDARD
BEGIN:DAYLIGHT
TZOFFSETFROM:+0100
TZOFFSETTO:+0200
TZNAME:CEST
DTSTART:20250330T010000
END:DAYLIGHT
BEGIN:STANDARD
TZOFFSETFROM:+0200
TZOFFSETTO:+0100
TZNAME:CET
DTSTART:20251026T010000
END:STANDARD
BEGIN:DAYLIGHT
TZOFFSETFROM:+0100
TZOFFSETTO:+0200
TZNAME:CEST
DTSTART:20260329T010000
END:DAYLIGHT
BEGIN:STANDARD
TZOFFSETFROM:+0200
TZOFFSETTO:+0100
TZNAME:CET
DTSTART:20261025T010000
END:STANDARD
END:VTIMEZONE
BEGIN:VEVENT
DTSTART;TZID=Europe/Paris:20250713T193000
DTEND;TZID=Europe/Paris:20250713T213000
DTSTAMP:20260420T204017
CREATED:20250630T104020Z
LAST-MODIFIED:20250630T105646Z
UID:2072-1752435000-1752442200@lebouibouidupays.fr
SUMMARY:YANNIS CONSTANS SICILIAN QUARTET:
DESCRIPTION:Quartet Franco/Sicilien de Swing/Jazz/Choro avec de très grands musiciens Siciliens. Le projet existe depuis 2017\, et nous avons joués dans de nombreux festival (Les nuits de Fourvieres\, Welcome In Tziganie\, Django à Liberchies\, Gipsy Jazz de Salles\, Jazz à Soulac\, festival de St Chinian\, Toulouse d’été….)en invitant des pointures du Jazz Manouche\, reconnus internationalement tels que Stochelo Rosenberg\, Samson Tchavolo Dorado Schmitt\, Paulus Schafer\, Tcha Limberger….etc etc  \nMusiciens: \nYannis Constans: Guitare \nRoberto Gervasi : Accordéon \nNicola Giammarinaro : Clarinette \nVincent Hemery : Contrebasse \n  \nhttps://youtu.be/EDP9wX9F5MI?feature=sharedhttps://youtu.be/9wvxZM_LDuM?si=RWG3etThidPNtoAJhttps://youtu.be/wDANBmgbDew?feature=sharedhttps://youtu.be/JIs3iwpP9xg?feature=shared
URL:https://lebouibouidupays.fr/calendrier/yannis-constans-sicilian-quartet/
LOCATION:Le Boui Boui du Pays\, le Boui Boui du Pays\, Varen\, 82330\, France
CATEGORIES:Concert
ATTACH;FMTTYPE=image/jpeg:https://lebouibouidupays.fr/wp-content/uploads/2025/06/YANNIS-CONSTANS-SICILIAN-QUARTET.jpg
END:VEVENT
END:VCALENDAR