BEGIN:VCALENDAR
VERSION:2.0
PRODID:-//Le Boui Boui du Pays - ECPv6.15.20//NONSGML v1.0//EN
CALSCALE:GREGORIAN
METHOD:PUBLISH
X-WR-CALNAME:Le Boui Boui du Pays
X-ORIGINAL-URL:https://lebouibouidupays.fr
X-WR-CALDESC:Évènements pour Le Boui Boui du Pays
REFRESH-INTERVAL;VALUE=DURATION:PT1H
X-Robots-Tag:noindex
X-PUBLISHED-TTL:PT1H
BEGIN:VTIMEZONE
TZID:Europe/Paris
BEGIN:DAYLIGHT
TZOFFSETFROM:+0100
TZOFFSETTO:+0200
TZNAME:CEST
DTSTART:20230326T010000
END:DAYLIGHT
BEGIN:STANDARD
TZOFFSETFROM:+0200
TZOFFSETTO:+0100
TZNAME:CET
DTSTART:20231029T010000
END:STANDARD
BEGIN:DAYLIGHT
TZOFFSETFROM:+0100
TZOFFSETTO:+0200
TZNAME:CEST
DTSTART:20240331T010000
END:DAYLIGHT
BEGIN:STANDARD
TZOFFSETFROM:+0200
TZOFFSETTO:+0100
TZNAME:CET
DTSTART:20241027T010000
END:STANDARD
BEGIN:DAYLIGHT
TZOFFSETFROM:+0100
TZOFFSETTO:+0200
TZNAME:CEST
DTSTART:20250330T010000
END:DAYLIGHT
BEGIN:STANDARD
TZOFFSETFROM:+0200
TZOFFSETTO:+0100
TZNAME:CET
DTSTART:20251026T010000
END:STANDARD
END:VTIMEZONE
BEGIN:VEVENT
DTSTART;TZID=Europe/Paris:20241006T123000
DTEND;TZID=Europe/Paris:20241006T143000
DTSTAMP:20260421T124414
CREATED:20240828T134157Z
LAST-MODIFIED:20240910T195415Z
UID:1856-1728217800-1728225000@lebouibouidupays.fr
SUMMARY:Baouba - Fanta Sayon Sissoko
DESCRIPTION:Avec son projet Baouba\, la chanteuse Fanta Sayon Sissoko affirme son identité et réussit avec brio à porter son héritage Griot dans le monde d’aujourd’hui\, pour faire de sa musique le lien entre hier et demain.\nEntourée de musiciens aux influences complémentaires\, Sekou Bah à la guitare\, Florent Lalet au Sax Baryton et Stéphane Gratteau à la Batterie\, une alchimie puissante se crée et un son unique émerge.\nCette nouvelle proposition\, résolument actuelle\, délivre une musique aux racines Africaines\, transpirant les couleurs des Empires Mandingues et Songhaï\, nourrie d’une puissante rythmique Groove\, nous plongent dans les ambiances sulfureuses des faubourgs africains. \n \nBiographie Fanta Sayon Sissoko : \nFanta est la fille de l’incontournable joueur de Djeli’n Goni\, guitariste et arrangeur Sayon Sissoko. Griotte de naissance\, elle sera baignée dans la musique tout au long de son enfance au Mali. Plus tard\, c’est son frère Samba Diabaté qui la guide et développe ses capacités créatives. En France\, elle rejoint les projets « Bakhe Yaye »\, « Le Bal de l’Afrique Enchanté »\, « Les Routes de l’Esclavage » de Jordi Savall ou encore le projet « Bach To Africa » de l’Ensemble Baroque de Toulouse. Parallèlement\, elle developpe ses propres créations\, notamment pour « Fantadamali ». \nBiographie Sekou Bah : \nOriginaire du Pays Dogon au Mali\, il apprend à jouer de la guitare lorsqu’il est enfant. Il se forme dans différents orchestres de différents pays : Guinée\, Sénégal\, Gambie\, et le Badema National du Mali. Il sera repéré en 2002 par Salif Keita\, et de 2003 à 2011\, il accompagne Oumou Sangaré dans ses différentes tournées à travers le monde. Devenu un acteur phare de la musique Malienne contemporaine\, Sékou est un musicien virtuose chevronné\, bassiste de Fatoumata Diawara de 2014 à 2020. \nBiographie Stéphane Gratteau : \nIssu d’une formation jazz\, Stéphane se spécialise dans les musiques Afro aux gré de ses voyages et de ses rencontres. Il est un batteur improvisateur très créatif\, compose ses premiers thèmes avec « Curcuma » dont il est le fondateur. Il participe également à de nombreux projet Jazz et Musiques Improvisées dont « Stabat Akish »\, « La tune »\, « Les Fanflures ». Avec le trio « Ezza » il fera près de 300 dates à l’internationnal.
URL:https://lebouibouidupays.fr/calendrier/baouba-fanta-sayon-sissoko/
LOCATION:Le Boui Boui du Pays\, le Boui Boui du Pays\, Varen\, 82330\, France
CATEGORIES:Concert
ATTACH;FMTTYPE=image/jpeg:https://lebouibouidupays.fr/wp-content/uploads/2024/08/Baouba.jpg
END:VEVENT
END:VCALENDAR