BEGIN:VCALENDAR
VERSION:2.0
PRODID:-//Le Boui Boui du Pays - ECPv6.15.20//NONSGML v1.0//EN
CALSCALE:GREGORIAN
METHOD:PUBLISH
X-WR-CALNAME:Le Boui Boui du Pays
X-ORIGINAL-URL:https://lebouibouidupays.fr
X-WR-CALDESC:Évènements pour Le Boui Boui du Pays
REFRESH-INTERVAL;VALUE=DURATION:PT1H
X-Robots-Tag:noindex
X-PUBLISHED-TTL:PT1H
BEGIN:VTIMEZONE
TZID:Europe/Paris
BEGIN:DAYLIGHT
TZOFFSETFROM:+0100
TZOFFSETTO:+0200
TZNAME:CEST
DTSTART:20230326T010000
END:DAYLIGHT
BEGIN:STANDARD
TZOFFSETFROM:+0200
TZOFFSETTO:+0100
TZNAME:CET
DTSTART:20231029T010000
END:STANDARD
BEGIN:DAYLIGHT
TZOFFSETFROM:+0100
TZOFFSETTO:+0200
TZNAME:CEST
DTSTART:20240331T010000
END:DAYLIGHT
BEGIN:STANDARD
TZOFFSETFROM:+0200
TZOFFSETTO:+0100
TZNAME:CET
DTSTART:20241027T010000
END:STANDARD
BEGIN:DAYLIGHT
TZOFFSETFROM:+0100
TZOFFSETTO:+0200
TZNAME:CEST
DTSTART:20250330T010000
END:DAYLIGHT
BEGIN:STANDARD
TZOFFSETFROM:+0200
TZOFFSETTO:+0100
TZNAME:CET
DTSTART:20251026T010000
END:STANDARD
END:VTIMEZONE
BEGIN:VEVENT
DTSTART;TZID=Europe/Paris:20240825T193000
DTEND;TZID=Europe/Paris:20240825T230000
DTSTAMP:20260423T165339
CREATED:20240703T200043Z
LAST-MODIFIED:20240704T182714Z
UID:1667-1724614200-1724626800@lebouibouidupays.fr
SUMMARY:Fandango jarocho
DESCRIPTION:Le son jarocho est une musique populaire paysanne pratiquée notamment à l’occasion de fandangos\, lors d’évènements familiaux et de fêtes de village dans le sud de l’État du Veracruz\, au Mexique. C’est une musique métissée aux racines afro-cubaines\, caribéennes et européennes qui s’est développée dans le Sotavento où l’esclavage s’était répandu dès le 17 eme siècle.\nLe son jarocho se joue\, se danse et se chante. Il mélange des instruments à cordes traditionnels issus de la guitare baroque tels que la jarana\, el requinto\, la leona\, et des instruments à percussion comme el cajón\, la quijada…\nL’émotion et l’énergie qui s’en dégage font du son jarocho une musique extraordinairement vivante et contagieuse qui est pratiquée aujourd’hui dans plusieurs endroits du monde. A Toulouse et dans la région\, un groupe de soneros franco-mexicains se réunit régulièrement. \nPhoto au Boui Boui le 08/09/2023
URL:https://lebouibouidupays.fr/calendrier/fandango-jarocho-2/
LOCATION:Le Boui Boui du Pays\, le Boui Boui du Pays\, Varen\, 82330\, France
CATEGORIES:Concert
ATTACH;FMTTYPE=image/jpeg:https://lebouibouidupays.fr/wp-content/uploads/2024/07/Fandango-jarocho-scaled.jpg
END:VEVENT
END:VCALENDAR