BEGIN:VCALENDAR
VERSION:2.0
PRODID:-//Le Boui Boui du Pays - ECPv6.15.20//NONSGML v1.0//EN
CALSCALE:GREGORIAN
METHOD:PUBLISH
X-WR-CALNAME:Le Boui Boui du Pays
X-ORIGINAL-URL:https://lebouibouidupays.fr
X-WR-CALDESC:Évènements pour Le Boui Boui du Pays
REFRESH-INTERVAL;VALUE=DURATION:PT1H
X-Robots-Tag:noindex
X-PUBLISHED-TTL:PT1H
BEGIN:VTIMEZONE
TZID:Europe/Paris
BEGIN:DAYLIGHT
TZOFFSETFROM:+0100
TZOFFSETTO:+0200
TZNAME:CEST
DTSTART:20230326T010000
END:DAYLIGHT
BEGIN:STANDARD
TZOFFSETFROM:+0200
TZOFFSETTO:+0100
TZNAME:CET
DTSTART:20231029T010000
END:STANDARD
BEGIN:DAYLIGHT
TZOFFSETFROM:+0100
TZOFFSETTO:+0200
TZNAME:CEST
DTSTART:20240331T010000
END:DAYLIGHT
BEGIN:STANDARD
TZOFFSETFROM:+0200
TZOFFSETTO:+0100
TZNAME:CET
DTSTART:20241027T010000
END:STANDARD
BEGIN:DAYLIGHT
TZOFFSETFROM:+0100
TZOFFSETTO:+0200
TZNAME:CEST
DTSTART:20250330T010000
END:DAYLIGHT
BEGIN:STANDARD
TZOFFSETFROM:+0200
TZOFFSETTO:+0100
TZNAME:CET
DTSTART:20251026T010000
END:STANDARD
END:VTIMEZONE
BEGIN:VEVENT
DTSTART;TZID=Europe/Paris:20240823T200000
DTEND;TZID=Europe/Paris:20240823T220000
DTSTAMP:20260423T163154
CREATED:20240818T113929Z
LAST-MODIFIED:20240818T113929Z
UID:1831-1724443200-1724450400@lebouibouidupays.fr
SUMMARY:Andres Ignacio Hernandez
DESCRIPTION:Andrés est né à Rancagua\, au Chili. Il a commencé à étudier le piano à l’âge de 10 ans\, ce qui l’a amené à jouer dans plusieurs groupes de différents genres\, avant de travailler comme chef d’orchestre pour des comédies musicales et enfin d’étudier la composition et l’arrangement de musique populaire à l’École moderne de musique et de danse de Santiago du Chili. Il a participé à diverses productions théâtrales\, y compris du théâtre de rue\, notamment dans la pièce « Doctor Dappertutto » du Teatro del Silencio\, mise en scène par Mauricio Celedon et Claire Joinet. Il vit aujourd’hui à Paris où il compose pour différentes compagnies de théâtre : la compagnie Sitio\, la compagnie Ohlavaka\, la compagnie La Siniestra. Il a récemment sorti son premier album « Microvalses » \nhttps://www.instagram.com/reel/CtJxwECgSbJ/?igsh=eGw0Ym01MTR6MDFi
URL:https://lebouibouidupays.fr/calendrier/andres-ignacio-hernandez/
LOCATION:Le Boui Boui du Pays\, le Boui Boui du Pays\, Varen\, 82330\, France
CATEGORIES:Concert
ATTACH;FMTTYPE=image/jpeg:https://lebouibouidupays.fr/wp-content/uploads/2024/08/Andres-Ignacio-Hernandez.jpg
END:VEVENT
END:VCALENDAR