BEGIN:VCALENDAR
VERSION:2.0
PRODID:-//Le Boui Boui du Pays - ECPv6.15.20//NONSGML v1.0//EN
CALSCALE:GREGORIAN
METHOD:PUBLISH
X-WR-CALNAME:Le Boui Boui du Pays
X-ORIGINAL-URL:https://lebouibouidupays.fr
X-WR-CALDESC:Évènements pour Le Boui Boui du Pays
REFRESH-INTERVAL;VALUE=DURATION:PT1H
X-Robots-Tag:noindex
X-PUBLISHED-TTL:PT1H
BEGIN:VTIMEZONE
TZID:Europe/Paris
BEGIN:DAYLIGHT
TZOFFSETFROM:+0100
TZOFFSETTO:+0200
TZNAME:CEST
DTSTART:20230326T010000
END:DAYLIGHT
BEGIN:STANDARD
TZOFFSETFROM:+0200
TZOFFSETTO:+0100
TZNAME:CET
DTSTART:20231029T010000
END:STANDARD
BEGIN:DAYLIGHT
TZOFFSETFROM:+0100
TZOFFSETTO:+0200
TZNAME:CEST
DTSTART:20240331T010000
END:DAYLIGHT
BEGIN:STANDARD
TZOFFSETFROM:+0200
TZOFFSETTO:+0100
TZNAME:CET
DTSTART:20241027T010000
END:STANDARD
BEGIN:DAYLIGHT
TZOFFSETFROM:+0100
TZOFFSETTO:+0200
TZNAME:CEST
DTSTART:20250330T010000
END:DAYLIGHT
BEGIN:STANDARD
TZOFFSETFROM:+0200
TZOFFSETTO:+0100
TZNAME:CET
DTSTART:20251026T010000
END:STANDARD
END:VTIMEZONE
BEGIN:VEVENT
DTSTART;TZID=Europe/Paris:20240804T193000
DTEND;TZID=Europe/Paris:20240804T223000
DTSTAMP:20260423T163119
CREATED:20240704T091539Z
LAST-MODIFIED:20240704T091539Z
UID:1701-1722799800-1722810600@lebouibouidupays.fr
SUMMARY:The Karib Turtles
DESCRIPTION:The Karib Turtles est un quintet acoustique de musiciens du Tarn\,\nformation composée de Chango Duran et d’Olivier Wiren au steelpan\, d’Emmanuel Bourgeois au banjo\, de Jérôme Gonzales au soubassophone et de Clovis Lécureux à la batterie.\nLeur répertoire reprend principalement des titres d’artistes des Antilles (Trinidad\, Guadeloupe\, Martinique\, Cuba).\nLa fusion de leur instruments mèle les influences des steel-bands de Trinidad avec celles des brass-bands de la Nouvelle Orléans pour\ncréer une musique avant tout festive\, une invitation à danser sur les rythmes caribéens.
URL:https://lebouibouidupays.fr/calendrier/the-karib-turtles/
LOCATION:Le Boui Boui du Pays\, le Boui Boui du Pays\, Varen\, 82330\, France
CATEGORIES:Concert
ATTACH;FMTTYPE=image/jpeg:https://lebouibouidupays.fr/wp-content/uploads/2024/07/5.jpg
END:VEVENT
END:VCALENDAR