BEGIN:VCALENDAR
VERSION:2.0
PRODID:-//Le Boui Boui du Pays - ECPv6.15.20//NONSGML v1.0//EN
CALSCALE:GREGORIAN
METHOD:PUBLISH
X-ORIGINAL-URL:https://lebouibouidupays.fr
X-WR-CALDESC:Évènements pour Le Boui Boui du Pays
REFRESH-INTERVAL;VALUE=DURATION:PT1H
X-Robots-Tag:noindex
X-PUBLISHED-TTL:PT1H
BEGIN:VTIMEZONE
TZID:Europe/Paris
BEGIN:DAYLIGHT
TZOFFSETFROM:+0100
TZOFFSETTO:+0200
TZNAME:CEST
DTSTART:20230326T010000
END:DAYLIGHT
BEGIN:STANDARD
TZOFFSETFROM:+0200
TZOFFSETTO:+0100
TZNAME:CET
DTSTART:20231029T010000
END:STANDARD
BEGIN:DAYLIGHT
TZOFFSETFROM:+0100
TZOFFSETTO:+0200
TZNAME:CEST
DTSTART:20240331T010000
END:DAYLIGHT
BEGIN:STANDARD
TZOFFSETFROM:+0200
TZOFFSETTO:+0100
TZNAME:CET
DTSTART:20241027T010000
END:STANDARD
BEGIN:DAYLIGHT
TZOFFSETFROM:+0100
TZOFFSETTO:+0200
TZNAME:CEST
DTSTART:20250330T010000
END:DAYLIGHT
BEGIN:STANDARD
TZOFFSETFROM:+0200
TZOFFSETTO:+0100
TZNAME:CET
DTSTART:20251026T010000
END:STANDARD
END:VTIMEZONE
BEGIN:VEVENT
DTSTART;TZID=Europe/Paris:20240719T193000
DTEND;TZID=Europe/Paris:20240719T213000
DTSTAMP:20260423T181207
CREATED:20240702T115450Z
LAST-MODIFIED:20240702T115450Z
UID:1651-1721417400-1721424600@lebouibouidupays.fr
SUMMARY:Du Vent dans les Bronches
DESCRIPTION:Le calembour n’est pas innocent et trahit la personnalité des deux artistes\, tiraillés entre humour et gravité\, entre réalisme et fantaisie : le vent dans les bronches\, c’est la vie quand il s’inspire\, la mort quand il s’exhale\, c’est aussi la saine colère contre ceux qui empêchent le monde de tourner rond… \nLes chansons laissent la part belle aux textes\, mis en valeur par de riches arrangements aux sonorités rarement rencontrées dans ce registre : hautbois et saxophone répondent aux voix\, à l’accordéon et à la guitare\, dans un climat où le burlesque se teinte de tendresse\, où l’indignation est toujours présente derrière l’humour bonhomme\, où la mélancolie un instant effleurée s’échappe dans un éclat de rire. \nDepuis 2008\, les deux complices enchaînent les concerts dans les salles de spectacles\, théâtres\, médiathèques\, cafés-concerts\, festivals\, bars associatifs.. avec entre autres des plateaux partagés avec Pigalle\, Loïc Lantoine\, Wally\, Frédérice Bobin\, Gilbert Laffaille… Ils sont également friands des concerts chez l’habitant. \nLa rencontre\, en 2011\, avec les deux comédiens de la compagnie Épallle Théâtre de Saint-Étienne\, a mené à la création des spectacles de chanson théâtralisée ‘Anti-gônes et Verts-mifuges‘ et ‘Du Vent dans les Pallles‘\, ainsi que trois cabarets consacrés à Georges Brassens (les Oiseaux de passage)\, Renaud (Tatatan !!) et Boby Lapointe (Boby se pointe). \n \n  \n \n \n 
URL:https://lebouibouidupays.fr/calendrier/du-vent-dans-les-bronches/
LOCATION:Le Boui Boui du Pays\, le Boui Boui du Pays\, Varen\, 82330\, France
CATEGORIES:Concert
ATTACH;FMTTYPE=image/jpeg:https://lebouibouidupays.fr/wp-content/uploads/2024/07/Du-Vent-dans-les-Bronches.jpg
END:VEVENT
END:VCALENDAR