BEGIN:VCALENDAR
VERSION:2.0
PRODID:-//Le Boui Boui du Pays - ECPv6.15.20//NONSGML v1.0//EN
CALSCALE:GREGORIAN
METHOD:PUBLISH
X-ORIGINAL-URL:https://lebouibouidupays.fr
X-WR-CALDESC:Évènements pour Le Boui Boui du Pays
REFRESH-INTERVAL;VALUE=DURATION:PT1H
X-Robots-Tag:noindex
X-PUBLISHED-TTL:PT1H
BEGIN:VTIMEZONE
TZID:Europe/Paris
BEGIN:DAYLIGHT
TZOFFSETFROM:+0100
TZOFFSETTO:+0200
TZNAME:CEST
DTSTART:20230326T010000
END:DAYLIGHT
BEGIN:STANDARD
TZOFFSETFROM:+0200
TZOFFSETTO:+0100
TZNAME:CET
DTSTART:20231029T010000
END:STANDARD
BEGIN:DAYLIGHT
TZOFFSETFROM:+0100
TZOFFSETTO:+0200
TZNAME:CEST
DTSTART:20240331T010000
END:DAYLIGHT
BEGIN:STANDARD
TZOFFSETFROM:+0200
TZOFFSETTO:+0100
TZNAME:CET
DTSTART:20241027T010000
END:STANDARD
BEGIN:DAYLIGHT
TZOFFSETFROM:+0100
TZOFFSETTO:+0200
TZNAME:CEST
DTSTART:20250330T010000
END:DAYLIGHT
BEGIN:STANDARD
TZOFFSETFROM:+0200
TZOFFSETTO:+0100
TZNAME:CET
DTSTART:20251026T010000
END:STANDARD
END:VTIMEZONE
BEGIN:VEVENT
DTSTART;TZID=Europe/Paris:20240716T193000
DTEND;TZID=Europe/Paris:20240716T213000
DTSTAMP:20260423T181207
CREATED:20240713T124120Z
LAST-MODIFIED:20240713T124120Z
UID:1646-1721158200-1721165400@lebouibouidupays.fr
SUMMARY:lajuntacallejera
DESCRIPTION:« Musique itinérante à base de Gypsy Jazz\, Cumbia y klezmer. Naît entre le Chili et le Pérou\, le groupe s’est formé dans les rues du quartier de San Telmo à Buenos Aires\, détesté par la police\, les inspecteurs et quelques « bons voisins ». \n \nMúsica Itinerante a base de Gypsy Jazz\, Cumbia y Klezmer. Encontrados en San Telmo\, odiados por los tombos\, fiscalizadores y algunos « buenos vecinos » \nhttps://www.instagram.com/lajuntacallejera/ \n 
URL:https://lebouibouidupays.fr/calendrier/lajuntacallejera/
LOCATION:Le Boui Boui du Pays\, le Boui Boui du Pays\, Varen\, 82330\, France
CATEGORIES:Concert
ATTACH;FMTTYPE=image/jpeg:https://lebouibouidupays.fr/wp-content/uploads/2024/07/WhatsApp-Image-2024-03-20-at-18.27.52.jpeg
END:VEVENT
END:VCALENDAR