BEGIN:VCALENDAR
VERSION:2.0
PRODID:-//Le Boui Boui du Pays - ECPv6.15.20//NONSGML v1.0//EN
CALSCALE:GREGORIAN
METHOD:PUBLISH
X-ORIGINAL-URL:https://lebouibouidupays.fr
X-WR-CALDESC:Évènements pour Le Boui Boui du Pays
REFRESH-INTERVAL;VALUE=DURATION:PT1H
X-Robots-Tag:noindex
X-PUBLISHED-TTL:PT1H
BEGIN:VTIMEZONE
TZID:Europe/Paris
BEGIN:DAYLIGHT
TZOFFSETFROM:+0100
TZOFFSETTO:+0200
TZNAME:CEST
DTSTART:20230326T010000
END:DAYLIGHT
BEGIN:STANDARD
TZOFFSETFROM:+0200
TZOFFSETTO:+0100
TZNAME:CET
DTSTART:20231029T010000
END:STANDARD
BEGIN:DAYLIGHT
TZOFFSETFROM:+0100
TZOFFSETTO:+0200
TZNAME:CEST
DTSTART:20240331T010000
END:DAYLIGHT
BEGIN:STANDARD
TZOFFSETFROM:+0200
TZOFFSETTO:+0100
TZNAME:CET
DTSTART:20241027T010000
END:STANDARD
BEGIN:DAYLIGHT
TZOFFSETFROM:+0100
TZOFFSETTO:+0200
TZNAME:CEST
DTSTART:20250330T010000
END:DAYLIGHT
BEGIN:STANDARD
TZOFFSETFROM:+0200
TZOFFSETTO:+0100
TZNAME:CET
DTSTART:20251026T010000
END:STANDARD
END:VTIMEZONE
BEGIN:VEVENT
DTSTART;TZID=Europe/Paris:20240712T193000
DTEND;TZID=Europe/Paris:20240712T213000
DTSTAMP:20260423T181302
CREATED:20240702T091307Z
LAST-MODIFIED:20240702T091307Z
UID:1640-1720812600-1720819800@lebouibouidupays.fr
SUMMARY:Renaud R
DESCRIPTION:Parcours\nDès ses 10 ans\, Renaud R écrit des chansons\, c’est plus fort que lui. Il commence la scène à ses 16 ans. \nLa musique s’enracine dans son chemin professionnel en ressortant diplômé de la Manufacture de la Chanson à Paris en 2015.\nDepuis il enchaîne les concerts\, les collaborations et les albums. Des cafés parisiens aux premières parties de grands artistes comme Tiken Jah Fakoly\, Israel vibration\, Clinton Fearon\, Earth Wind and Fire\,\nallant des lieux associatifs à des concerts à l’autre bout du monde : Nouvelle-zélande\, Guadeloupe\net Sri lanka\, des festivals comme le Rootsergue au concert chez l’habitant\, il aime surtout créer du lien\net partager sa musique. Pour lui\, écrire et chanter est plus qu’un métier\, c’est une nécessité existentielle\, un\nprolongement de sa Nature. \n  \n \n \n 
URL:https://lebouibouidupays.fr/calendrier/renaud-r/
LOCATION:Le Boui Boui du Pays\, le Boui Boui du Pays\, Varen\, 82330\, France
CATEGORIES:Concert
ATTACH;FMTTYPE=image/png:https://lebouibouidupays.fr/wp-content/uploads/2024/07/Renaud-R.png
END:VEVENT
END:VCALENDAR