BEGIN:VCALENDAR
VERSION:2.0
PRODID:-//Le Boui Boui du Pays - ECPv6.15.20//NONSGML v1.0//EN
CALSCALE:GREGORIAN
METHOD:PUBLISH
X-ORIGINAL-URL:https://lebouibouidupays.fr
X-WR-CALDESC:Évènements pour Le Boui Boui du Pays
REFRESH-INTERVAL;VALUE=DURATION:PT1H
X-Robots-Tag:noindex
X-PUBLISHED-TTL:PT1H
BEGIN:VTIMEZONE
TZID:Europe/Paris
BEGIN:DAYLIGHT
TZOFFSETFROM:+0100
TZOFFSETTO:+0200
TZNAME:CEST
DTSTART:20230326T010000
END:DAYLIGHT
BEGIN:STANDARD
TZOFFSETFROM:+0200
TZOFFSETTO:+0100
TZNAME:CET
DTSTART:20231029T010000
END:STANDARD
BEGIN:DAYLIGHT
TZOFFSETFROM:+0100
TZOFFSETTO:+0200
TZNAME:CEST
DTSTART:20240331T010000
END:DAYLIGHT
BEGIN:STANDARD
TZOFFSETFROM:+0200
TZOFFSETTO:+0100
TZNAME:CET
DTSTART:20241027T010000
END:STANDARD
BEGIN:DAYLIGHT
TZOFFSETFROM:+0100
TZOFFSETTO:+0200
TZNAME:CEST
DTSTART:20250330T010000
END:DAYLIGHT
BEGIN:STANDARD
TZOFFSETFROM:+0200
TZOFFSETTO:+0100
TZNAME:CET
DTSTART:20251026T010000
END:STANDARD
END:VTIMEZONE
BEGIN:VEVENT
DTSTART;TZID=Europe/Paris:20240628T193000
DTEND;TZID=Europe/Paris:20240628T213000
DTSTAMP:20260423T194552
CREATED:20240625T135510Z
LAST-MODIFIED:20240625T135510Z
UID:1621-1719603000-1719610200@lebouibouidupays.fr
SUMMARY:Grupo lado de la
DESCRIPTION:Les musicien.nes du groupe de samba « Grupo Lado de Lá » partagent les combats\, les allégresses et tristesses des chansons cariocas au son de leurs voix\, percussions et cordes. Débordant d’énergie et de joie de vivre\, le groupe s’allie au public pour vivre un samba participatif. Il a à cœur d’inviter le public à faire l’expérience de cette culture de l’autre côté de l’Atlantique\, de là-bas\, do lado de lá…! \n \n \ncrédit photo : michel papemsi
URL:https://lebouibouidupays.fr/calendrier/grupo-lado-de-la/
LOCATION:Le Boui Boui du Pays\, le Boui Boui du Pays\, Varen\, 82330\, France
CATEGORIES:Concert
ATTACH;FMTTYPE=image/jpeg:https://lebouibouidupays.fr/wp-content/uploads/2024/06/michel-papemsi.jpg
END:VEVENT
END:VCALENDAR