BEGIN:VCALENDAR
VERSION:2.0
PRODID:-//Le Boui Boui du Pays - ECPv6.15.20//NONSGML v1.0//EN
CALSCALE:GREGORIAN
METHOD:PUBLISH
X-WR-CALNAME:Le Boui Boui du Pays
X-ORIGINAL-URL:https://lebouibouidupays.fr
X-WR-CALDESC:Évènements pour Le Boui Boui du Pays
REFRESH-INTERVAL;VALUE=DURATION:PT1H
X-Robots-Tag:noindex
X-PUBLISHED-TTL:PT1H
BEGIN:VTIMEZONE
TZID:Europe/Paris
BEGIN:DAYLIGHT
TZOFFSETFROM:+0100
TZOFFSETTO:+0200
TZNAME:CEST
DTSTART:20220327T010000
END:DAYLIGHT
BEGIN:STANDARD
TZOFFSETFROM:+0200
TZOFFSETTO:+0100
TZNAME:CET
DTSTART:20221030T010000
END:STANDARD
BEGIN:DAYLIGHT
TZOFFSETFROM:+0100
TZOFFSETTO:+0200
TZNAME:CEST
DTSTART:20230326T010000
END:DAYLIGHT
BEGIN:STANDARD
TZOFFSETFROM:+0200
TZOFFSETTO:+0100
TZNAME:CET
DTSTART:20231029T010000
END:STANDARD
BEGIN:DAYLIGHT
TZOFFSETFROM:+0100
TZOFFSETTO:+0200
TZNAME:CEST
DTSTART:20240331T010000
END:DAYLIGHT
BEGIN:STANDARD
TZOFFSETFROM:+0200
TZOFFSETTO:+0100
TZNAME:CET
DTSTART:20241027T010000
END:STANDARD
END:VTIMEZONE
BEGIN:VEVENT
DTSTART;TZID=Europe/Paris:20230902T193000
DTEND;TZID=Europe/Paris:20230902T230000
DTSTAMP:20260424T112658
CREATED:20230519T072750Z
LAST-MODIFIED:20230615T101005Z
UID:1073-1693683000-1693695600@lebouibouidupays.fr
SUMMARY:The Worn Shoes
DESCRIPTION:Le Rhythm’n’blues prend ses lettres de noblesse en 1947\, « melting pot » de Blues de Jazz et de Gospel\, inspirant le Rock & Roll par la suite. \n70 ans plus tard\, le groupe Montalbanais « The Worn Shoes » réinterprète avec énergie et passion les standards de cette épopée musicale\, agrémentés d’une touche d’originalité. \nNovices ou initiés\, vous aurez le plaisir de découvrir un répertoire vous transportant dans les années 50 à 70\, parfaitement adapté à divers types d’ambiance (festivals\, cocktail\, mariage\, soirée privée\, inauguration) \n \nhttps://www.thewornshoes.fr/
URL:https://lebouibouidupays.fr/calendrier/the-worn-shoes/
LOCATION:Le Boui Boui du Pays\, le Boui Boui du Pays\, Varen\, 82330\, France
CATEGORIES:Concert
ATTACH;FMTTYPE=image/jpeg:https://lebouibouidupays.fr/wp-content/uploads/2023/05/2023-06_The-Worn-Shoes-8-scaled.jpg
END:VEVENT
END:VCALENDAR