BEGIN:VCALENDAR
VERSION:2.0
PRODID:-//Le Boui Boui du Pays - ECPv6.15.20//NONSGML v1.0//EN
CALSCALE:GREGORIAN
METHOD:PUBLISH
X-WR-CALNAME:Le Boui Boui du Pays
X-ORIGINAL-URL:https://lebouibouidupays.fr
X-WR-CALDESC:Évènements pour Le Boui Boui du Pays
REFRESH-INTERVAL;VALUE=DURATION:PT1H
X-Robots-Tag:noindex
X-PUBLISHED-TTL:PT1H
BEGIN:VTIMEZONE
TZID:Europe/Paris
BEGIN:DAYLIGHT
TZOFFSETFROM:+0100
TZOFFSETTO:+0200
TZNAME:CEST
DTSTART:20240331T010000
END:DAYLIGHT
BEGIN:STANDARD
TZOFFSETFROM:+0200
TZOFFSETTO:+0100
TZNAME:CET
DTSTART:20241027T010000
END:STANDARD
BEGIN:DAYLIGHT
TZOFFSETFROM:+0100
TZOFFSETTO:+0200
TZNAME:CEST
DTSTART:20250330T010000
END:DAYLIGHT
BEGIN:STANDARD
TZOFFSETFROM:+0200
TZOFFSETTO:+0100
TZNAME:CET
DTSTART:20251026T010000
END:STANDARD
BEGIN:DAYLIGHT
TZOFFSETFROM:+0100
TZOFFSETTO:+0200
TZNAME:CEST
DTSTART:20260329T010000
END:DAYLIGHT
BEGIN:STANDARD
TZOFFSETFROM:+0200
TZOFFSETTO:+0100
TZNAME:CET
DTSTART:20261025T010000
END:STANDARD
END:VTIMEZONE
BEGIN:VEVENT
DTSTART;TZID=Europe/Paris:20250608T193000
DTEND;TZID=Europe/Paris:20250608T210000
DTSTAMP:20260420T203453
CREATED:20250512T142242Z
LAST-MODIFIED:20250607T162241Z
UID:1927-1749411000-1749416400@lebouibouidupays.fr
SUMMARY:Oldy Goldy ANNULE REPORTE A UNE DATE ULTERIEURE
DESCRIPTION: 
URL:https://lebouibouidupays.fr/calendrier/oldy-goldy/
LOCATION:Le Boui Boui du Pays\, le Boui Boui du Pays\, Varen\, 82330\, France
CATEGORIES:Concert
ATTACH;FMTTYPE=image/jpeg:https://lebouibouidupays.fr/wp-content/uploads/2025/05/fond-copie.jpg
END:VEVENT
BEGIN:VEVENT
DTSTART;TZID=Europe/Paris:20250608T193000
DTEND;TZID=Europe/Paris:20250608T210000
DTSTAMP:20260420T203453
CREATED:20250607T220117Z
LAST-MODIFIED:20250607T220117Z
UID:1998-1749411000-1749416400@lebouibouidupays.fr
SUMMARY:DUOKAZOO
DESCRIPTION:DUOKAZOO\ngroupe de reprises BLUES FOLK ROCK des années 50 a 70\nau programme : CREEDENCE \, KINKS \, DYLAN\, BEATLES\,\nCHUCK BERRY….\nrépertoire varie…. une plongée dans nos souvenirs …un retour\naux sources sans complexe…. musique jouée en vrai (pas de\nmachine….)\nbanjo chant kazoo TOTO / Basse batterie chant PATRICK
URL:https://lebouibouidupays.fr/calendrier/duokazoo/
LOCATION:Le Boui Boui du Pays\, le Boui Boui du Pays\, Varen\, 82330\, France
CATEGORIES:Concert
ATTACH;FMTTYPE=image/jpeg:https://lebouibouidupays.fr/wp-content/uploads/2025/06/affiche-page-001.jpg
END:VEVENT
BEGIN:VEVENT
DTSTART;TZID=Europe/Paris:20250615T193000
DTEND;TZID=Europe/Paris:20250615T210000
DTSTAMP:20260420T203453
CREATED:20250513T175912Z
LAST-MODIFIED:20250513T175912Z
UID:1939-1750015800-1750021200@lebouibouidupays.fr
SUMMARY:Duo Dub & Dajoe
DESCRIPTION:Le duo Dub & Dajoe (D&D) réunit Dub LePoolp et Ucef Dajoe\, deux musiciens touche-à-tout qui après leur rencontre dans les groupes Sahara Connexion en 2017\, Amnésy Internationale en 2021 et L’Baraka en 2024\, décident de poursuivre cette aventure humaine et musicale.\n2 guitares et 2 voix (parfois accordéon et percussions) accordées sur un répertoire de chansons du monde. D&D c’est une invitation au voyage à travers des influences reggae\, folk\, rock\, jazz\, latino\, samba\, cumbia…\nLes chants se mêlent avec émotion et s’entremêlent avec énergie en français\, en anglais\, en portugais\, en espagnol et en arabe.\nUn répertoire de chansons connues ou inconnues\, d’adaptations et aussi de compositions originales qui vous emmèneront sur un chemin tout autour du monde. Merci de mettre vos téléphones en “mode avion”. Bouclez vos ceintures. Décollage imminent.\n\n\n\n\n\n \n \n \nFacebook: \nhttps://www.facebook.com/DubandDajoe \nInstagram : \nhttps://www.instagram.com/dubanddajoe/ \nContacts et infos: \ndubdajoe@gmail.com \nMaxime Dubedout \n06 50 97 69 03 \nou \nYoussef Zériate \n06 34 42 59 87
URL:https://lebouibouidupays.fr/calendrier/duo-dub-dajoe-2/
LOCATION:Le Boui Boui du Pays\, le Boui Boui du Pays\, Varen\, 82330\, France
CATEGORIES:Concert
ATTACH;FMTTYPE=image/jpeg:https://lebouibouidupays.fr/wp-content/uploads/2024/07/Duo-Dub-Dajoe.jpg
END:VEVENT
BEGIN:VEVENT
DTSTART;TZID=Europe/Paris:20250620T193000
DTEND;TZID=Europe/Paris:20250620T220000
DTSTAMP:20260420T203453
CREATED:20250602T144521Z
LAST-MODIFIED:20250602T160334Z
UID:1970-1750447800-1750456800@lebouibouidupays.fr
SUMMARY:Duo Salpicón
DESCRIPTION:Duo Salpicón\nRodrigo MOSQUERA (Equateur) : Chant\, Guitare\, Basse\nHidegar GARCIA (Venezuela) : Chant\, Percussions\, Quatro vénézuélien\nLe Duo Salpicón vous invite à un voyage musical en Amérique latine.\nIl interprétera pour vous les grands boléros\, cha-cha-chas\, sones cubains\,\ncumbias\, salsas\, les standards du répertoire latino-américain.\nLaissez-vous emporter par ces rythmes ensoleillés et venez partager leur grande\ncomplicité.\nNe manquez pas ce voyage musical vibrant et authentique.\nLe duo vous attend ! \n \nContact : \nAssociation La Casa del Arcoíris \n06 78 16 91 28 \ncasaarcoiristoulouse@gmail.com
URL:https://lebouibouidupays.fr/calendrier/duo-salpicon/
LOCATION:Le Boui Boui du Pays\, le Boui Boui du Pays\, Varen\, 82330\, France
CATEGORIES:Concert
ATTACH;FMTTYPE=image/jpeg:https://lebouibouidupays.fr/wp-content/uploads/2025/06/Afiche-Salpicon-Duo.jpg
END:VEVENT
BEGIN:VEVENT
DTSTART;TZID=Europe/Paris:20250622T123000
DTEND;TZID=Europe/Paris:20250622T150000
DTSTAMP:20260420T203453
CREATED:20250602T141931Z
LAST-MODIFIED:20250622T130447Z
UID:1974-1750595400-1750604400@lebouibouidupays.fr
SUMMARY:Vasta Project ANNULE
DESCRIPTION:Nous sommes vraiment désolé de devoir vous annoncer que suite à une erreur de notre part il n’y aura pas de concert ce soir. Nous avons fait une erreur dans notre planning de programmation ce concert devait avoir lieu ce midi. Pour la première fois de notre histoire le groupe est arrivé et a trouvé porte clause. Nos plus plates excuses à eux et à vous.\n » Vasta « …. signifie les mains en langue manouche… \n \nSi les yeux sont le miroir de l’âme\, les mains du musicien (Vasta) sont le véhicule de ses émotions. La souplesse de leurs mouvements\, vitesse et précision\, en disent long sur les intentions et les heures de travail pour arriver à s’exprimer finement en musique… \nÀ travers des arrangements originaux\, et des compositions\, Vasta Project invite à un voyage musical plein d’énergie\, de poésie\, de fougue et de désinvolture\, mais surtout de swing !\nLe quartet délivre un swing virtuose et mélodique en revisitant des standards de jazz de Django Reinhardt à Wes Montgomery\, mais aussi en intégrant leurs propres compositions qui lorgnent sur les pays de l’est et ses rythmes addictifs… \nLe groupe est conduit par la guitare rugissante de Hadrien Vejsel et la sémillante clarinette de Alix Guerry.\nL’ensemble est soutenu par une section rythmique redoutablement efficace:\nle swing solide du guitariste Pablo Robin\, et la contrebasse claire et ronde de Nicolas Oustiakine\, dont la voix chaleureuse et enjouée fait respirer le répertoire. \nLa musique de Vasta n’est pas traditionnelle. Elle s’inscrit dans une démarche ou l’on puise autant dans ses racines\, que dans l’air du temps pour ériger un territoire musical contemporain\, à la fois joyeux et sensible. \nhttps://www.vastaproject.com/
URL:https://lebouibouidupays.fr/calendrier/vasta-project/
LOCATION:Le Boui Boui du Pays\, le Boui Boui du Pays\, Varen\, 82330\, France
CATEGORIES:Concert
ATTACH;FMTTYPE=image/jpeg:https://lebouibouidupays.fr/wp-content/uploads/2025/06/vasta-project-mix-titre-satur-2026x1332-1.jpg
END:VEVENT
END:VCALENDAR