BEGIN:VCALENDAR
VERSION:2.0
PRODID:-//Le Boui Boui du Pays - ECPv6.15.20//NONSGML v1.0//EN
CALSCALE:GREGORIAN
METHOD:PUBLISH
X-ORIGINAL-URL:https://lebouibouidupays.fr
X-WR-CALDESC:Évènements pour Le Boui Boui du Pays
REFRESH-INTERVAL;VALUE=DURATION:PT1H
X-Robots-Tag:noindex
X-PUBLISHED-TTL:PT1H
BEGIN:VTIMEZONE
TZID:Europe/Paris
BEGIN:DAYLIGHT
TZOFFSETFROM:+0100
TZOFFSETTO:+0200
TZNAME:CEST
DTSTART:20230326T010000
END:DAYLIGHT
BEGIN:STANDARD
TZOFFSETFROM:+0200
TZOFFSETTO:+0100
TZNAME:CET
DTSTART:20231029T010000
END:STANDARD
BEGIN:DAYLIGHT
TZOFFSETFROM:+0100
TZOFFSETTO:+0200
TZNAME:CEST
DTSTART:20240331T010000
END:DAYLIGHT
BEGIN:STANDARD
TZOFFSETFROM:+0200
TZOFFSETTO:+0100
TZNAME:CET
DTSTART:20241027T010000
END:STANDARD
BEGIN:DAYLIGHT
TZOFFSETFROM:+0100
TZOFFSETTO:+0200
TZNAME:CEST
DTSTART:20250330T010000
END:DAYLIGHT
BEGIN:STANDARD
TZOFFSETFROM:+0200
TZOFFSETTO:+0100
TZNAME:CET
DTSTART:20251026T010000
END:STANDARD
END:VTIMEZONE
BEGIN:VEVENT
DTSTART;TZID=Europe/Paris:20240705T193000
DTEND;TZID=Europe/Paris:20240705T213000
DTSTAMP:20260423T163119
CREATED:20240703T082648Z
LAST-MODIFIED:20240703T082648Z
UID:1656-1720207800-1720215000@lebouibouidupays.fr
SUMMARY:Les JACK-POTES
DESCRIPTION:Vendredi soir\, concert éphémère : Les JACK-POTES. \nIls viennent des cinq coins du monde et même de plus loin….. \nUn band\, une bande\, un groupe qui a décidé que la musique et l’amitié les réuniraient au moins une fois par an. C’est ce vendredi 5 juillet au Boui Boui !
URL:https://lebouibouidupays.fr/calendrier/les-jack-potes/
LOCATION:Le Boui Boui du Pays\, le Boui Boui du Pays\, Varen\, 82330\, France
CATEGORIES:Concert
ATTACH;FMTTYPE=image/jpeg:https://lebouibouidupays.fr/wp-content/uploads/2024/07/Les-JACK-POTES-scaled.jpg
END:VEVENT
BEGIN:VEVENT
DTSTART;TZID=Europe/Paris:20240709T193000
DTEND;TZID=Europe/Paris:20240709T213000
DTSTAMP:20260423T163119
CREATED:20240702T083657Z
LAST-MODIFIED:20240702T123758Z
UID:1635-1720553400-1720560600@lebouibouidupays.fr
SUMMARY:Honky Tonk
DESCRIPTION:Jean-Yves Péron – Piano\, guitare et voix. \nUn concert plutôt destiné aux nostalgiques des années 70 à 90… \n 
URL:https://lebouibouidupays.fr/calendrier/honky-tonk-2/
LOCATION:Le Boui Boui du Pays\, le Boui Boui du Pays\, Varen\, 82330\, France
CATEGORIES:Concert
ATTACH;FMTTYPE=image/jpeg:https://lebouibouidupays.fr/wp-content/uploads/2023/09/honky-tonk-1.jpg
END:VEVENT
BEGIN:VEVENT
DTSTART;TZID=Europe/Paris:20240712T193000
DTEND;TZID=Europe/Paris:20240712T213000
DTSTAMP:20260423T163119
CREATED:20240702T091307Z
LAST-MODIFIED:20240702T091307Z
UID:1640-1720812600-1720819800@lebouibouidupays.fr
SUMMARY:Renaud R
DESCRIPTION:Parcours\nDès ses 10 ans\, Renaud R écrit des chansons\, c’est plus fort que lui. Il commence la scène à ses 16 ans. \nLa musique s’enracine dans son chemin professionnel en ressortant diplômé de la Manufacture de la Chanson à Paris en 2015.\nDepuis il enchaîne les concerts\, les collaborations et les albums. Des cafés parisiens aux premières parties de grands artistes comme Tiken Jah Fakoly\, Israel vibration\, Clinton Fearon\, Earth Wind and Fire\,\nallant des lieux associatifs à des concerts à l’autre bout du monde : Nouvelle-zélande\, Guadeloupe\net Sri lanka\, des festivals comme le Rootsergue au concert chez l’habitant\, il aime surtout créer du lien\net partager sa musique. Pour lui\, écrire et chanter est plus qu’un métier\, c’est une nécessité existentielle\, un\nprolongement de sa Nature. \n  \n \n \n 
URL:https://lebouibouidupays.fr/calendrier/renaud-r/
LOCATION:Le Boui Boui du Pays\, le Boui Boui du Pays\, Varen\, 82330\, France
CATEGORIES:Concert
ATTACH;FMTTYPE=image/png:https://lebouibouidupays.fr/wp-content/uploads/2024/07/Renaud-R.png
END:VEVENT
BEGIN:VEVENT
DTSTART;TZID=Europe/Paris:20240714T193000
DTEND;TZID=Europe/Paris:20240714T213000
DTSTAMP:20260423T163119
CREATED:20240702T092426Z
LAST-MODIFIED:20240702T092426Z
UID:1644-1720985400-1720992600@lebouibouidupays.fr
SUMMARY:Milko Bel
DESCRIPTION:Comme chaque année nous avons le plaisir d’accueillir Milko Bel pour un concert de rock\, reggae\, chansons françaises. \n\n\n\n\n\n\n\n\n\n\n\n\n\n\n\n\n\n\n\n\n\n\nhttps://www.facebook.com/100004446365459/videos/755823829674846/ \n  \nhttps://www.facebook.com/profile.php?id=100004446365459
URL:https://lebouibouidupays.fr/calendrier/milko-bel-2/
LOCATION:Le Boui Boui du Pays\, le Boui Boui du Pays\, Varen\, 82330\, France
CATEGORIES:Concert
ATTACH;FMTTYPE=image/jpeg:https://lebouibouidupays.fr/wp-content/uploads/2022/06/milko.jpg
END:VEVENT
BEGIN:VEVENT
DTSTART;TZID=Europe/Paris:20240716T193000
DTEND;TZID=Europe/Paris:20240716T213000
DTSTAMP:20260423T163119
CREATED:20240713T124120Z
LAST-MODIFIED:20240713T124120Z
UID:1646-1721158200-1721165400@lebouibouidupays.fr
SUMMARY:lajuntacallejera
DESCRIPTION:« Musique itinérante à base de Gypsy Jazz\, Cumbia y klezmer. Naît entre le Chili et le Pérou\, le groupe s’est formé dans les rues du quartier de San Telmo à Buenos Aires\, détesté par la police\, les inspecteurs et quelques « bons voisins ». \n \nMúsica Itinerante a base de Gypsy Jazz\, Cumbia y Klezmer. Encontrados en San Telmo\, odiados por los tombos\, fiscalizadores y algunos « buenos vecinos » \nhttps://www.instagram.com/lajuntacallejera/ \n 
URL:https://lebouibouidupays.fr/calendrier/lajuntacallejera/
LOCATION:Le Boui Boui du Pays\, le Boui Boui du Pays\, Varen\, 82330\, France
CATEGORIES:Concert
ATTACH;FMTTYPE=image/jpeg:https://lebouibouidupays.fr/wp-content/uploads/2024/07/WhatsApp-Image-2024-03-20-at-18.27.52.jpeg
END:VEVENT
BEGIN:VEVENT
DTSTART;TZID=Europe/Paris:20240719T193000
DTEND;TZID=Europe/Paris:20240719T213000
DTSTAMP:20260423T163119
CREATED:20240702T115450Z
LAST-MODIFIED:20240702T115450Z
UID:1651-1721417400-1721424600@lebouibouidupays.fr
SUMMARY:Du Vent dans les Bronches
DESCRIPTION:Le calembour n’est pas innocent et trahit la personnalité des deux artistes\, tiraillés entre humour et gravité\, entre réalisme et fantaisie : le vent dans les bronches\, c’est la vie quand il s’inspire\, la mort quand il s’exhale\, c’est aussi la saine colère contre ceux qui empêchent le monde de tourner rond… \nLes chansons laissent la part belle aux textes\, mis en valeur par de riches arrangements aux sonorités rarement rencontrées dans ce registre : hautbois et saxophone répondent aux voix\, à l’accordéon et à la guitare\, dans un climat où le burlesque se teinte de tendresse\, où l’indignation est toujours présente derrière l’humour bonhomme\, où la mélancolie un instant effleurée s’échappe dans un éclat de rire. \nDepuis 2008\, les deux complices enchaînent les concerts dans les salles de spectacles\, théâtres\, médiathèques\, cafés-concerts\, festivals\, bars associatifs.. avec entre autres des plateaux partagés avec Pigalle\, Loïc Lantoine\, Wally\, Frédérice Bobin\, Gilbert Laffaille… Ils sont également friands des concerts chez l’habitant. \nLa rencontre\, en 2011\, avec les deux comédiens de la compagnie Épallle Théâtre de Saint-Étienne\, a mené à la création des spectacles de chanson théâtralisée ‘Anti-gônes et Verts-mifuges‘ et ‘Du Vent dans les Pallles‘\, ainsi que trois cabarets consacrés à Georges Brassens (les Oiseaux de passage)\, Renaud (Tatatan !!) et Boby Lapointe (Boby se pointe). \n \n  \n \n \n 
URL:https://lebouibouidupays.fr/calendrier/du-vent-dans-les-bronches/
LOCATION:Le Boui Boui du Pays\, le Boui Boui du Pays\, Varen\, 82330\, France
CATEGORIES:Concert
ATTACH;FMTTYPE=image/jpeg:https://lebouibouidupays.fr/wp-content/uploads/2024/07/Du-Vent-dans-les-Bronches.jpg
END:VEVENT
BEGIN:VEVENT
DTSTART;TZID=Europe/Paris:20240721T193000
DTEND;TZID=Europe/Paris:20240721T213000
DTSTAMP:20260423T163119
CREATED:20240707T070024Z
LAST-MODIFIED:20240707T070024Z
UID:1748-1721590200-1721597400@lebouibouidupays.fr
SUMMARY:JYP's TRIO
DESCRIPTION:Le trio joue des standards de jazz à la sauce tranquillou\, sans s’énerver… \nQuoi que… \nEnjoy! \n  \nJean-Yves Péron: Piano \nFred Calvet: Basse \nEric Boccalini: Batterie \n 
URL:https://lebouibouidupays.fr/calendrier/jyps-trio/
LOCATION:Le Boui Boui du Pays\, le Boui Boui du Pays\, Varen\, 82330\, France
CATEGORIES:Concert
ATTACH;FMTTYPE=image/jpeg:https://lebouibouidupays.fr/wp-content/uploads/2024/07/JYPs-TRIO.jpg
END:VEVENT
BEGIN:VEVENT
DTSTART;TZID=Europe/Paris:20240723T193000
DTEND;TZID=Europe/Paris:20240723T213000
DTSTAMP:20260423T163119
CREATED:20240718T070220Z
LAST-MODIFIED:20240718T070307Z
UID:1766-1721763000-1721770200@lebouibouidupays.fr
SUMMARY:Duo Dub & Dajoe
DESCRIPTION:Le duo Dub & Dajoe (D&D) réunit Dub LePoolp et Ucef Dajoe\, deux musiciens touche-à-tout qui après leur rencontre dans les groupes Sahara Connexion en 2017\, Amnésy Internationale en 2021 et L’Baraka en 2024\, décident de poursuivre cette aventure humaine et musicale.\n2 guitares et 2 voix (parfois accordéon et percussions) accordées sur un répertoire de chansons du monde. D&D c’est une invitation au voyage à travers des influences reggae\, folk\, rock\, jazz\, latino\, samba\, cumbia…\nLes chants se mêlent avec émotion et s’entremêlent avec énergie en français\, en anglais\, en portugais\, en espagnol et en arabe.\nUn répertoire de chansons connues ou inconnues\, d’adaptations et aussi de compositions originales qui vous emmèneront sur un chemin tout autour du monde. Merci de mettre vos téléphones en “mode avion”. Bouclez vos ceintures. Décollage imminent.\n\n\n\n\n\n \n \n \nFacebook: \nhttps://www.facebook.com/DubandDajoe \nInstagram: \nhttps://www.instagram.com/dubanddajoe/ \nContacts et infos: \ndubdajoe@gmail.com \nMaxime Dubedout \n06 50 97 69 03 \nou \nYoussef Zériate \n06 34 42 59 87
URL:https://lebouibouidupays.fr/calendrier/duo-dub-dajoe/
LOCATION:Le Boui Boui du Pays\, le Boui Boui du Pays\, Varen\, 82330\, France
CATEGORIES:Concert
ATTACH;FMTTYPE=image/jpeg:https://lebouibouidupays.fr/wp-content/uploads/2024/07/Duo-Dub-Dajoe.jpg
END:VEVENT
BEGIN:VEVENT
DTSTART;TZID=Europe/Paris:20240725T203000
DTEND;TZID=Europe/Paris:20240725T230000
DTSTAMP:20260423T163119
CREATED:20240725T150419Z
LAST-MODIFIED:20240725T150419Z
UID:1785-1721939400-1721948400@lebouibouidupays.fr
SUMMARY:L' baraka البركة
DESCRIPTION:Gnawa – Reggae – Chaabi – Samba \n \n \nhttps://youtube.com/@lbarakaband \n 
URL:https://lebouibouidupays.fr/calendrier/l-baraka-%d8%a7%d9%84%d8%a8%d8%b1%d9%83%d8%a9/
LOCATION:Le Boui Boui du Pays\, le Boui Boui du Pays\, Varen\, 82330\, France
CATEGORIES:Concert
ATTACH;FMTTYPE=image/png:https://lebouibouidupays.fr/wp-content/uploads/2024/07/Capture-decran-du-2024-07-25-16-50-47.png
END:VEVENT
BEGIN:VEVENT
DTSTART;TZID=Europe/Paris:20240726T193000
DTEND;TZID=Europe/Paris:20240726T220000
DTSTAMP:20260423T163119
CREATED:20240705T080045Z
LAST-MODIFIED:20240705T081948Z
UID:1678-1722022200-1722031200@lebouibouidupays.fr
SUMMARY:Duo La Gaieté
DESCRIPTION:Avec son répertoire de chansons françaises à l’esprit musette\, le duo « La Gaieté » vous fait revivre l’insouciance des bals populaires et l’envie de partager la musique.\n\n\nL’accordéon expert de Patrick vous obligera à vous lever et à danser et le chant de Bérangère à vous mettre à  chanter !\nLaissez-vous emporter le temps d’une soirée par les standards de Piaf\, Aznavour ou Gainsbourg et replonger avec eux dans le beau patrimoine culturel français.\n\n\n \n  \n 
URL:https://lebouibouidupays.fr/calendrier/duo-la-gaiete/
LOCATION:Le Boui Boui du Pays\, le Boui Boui du Pays\, Varen\, 82330\, France
CATEGORIES:Concert
ATTACH;FMTTYPE=image/jpeg:https://lebouibouidupays.fr/wp-content/uploads/2024/07/Duo-La-Gaiete.jpg
END:VEVENT
BEGIN:VEVENT
DTSTART;TZID=Europe/Paris:20240728T193000
DTEND;TZID=Europe/Paris:20240728T220000
DTSTAMP:20260423T163119
CREATED:20240704T083727Z
LAST-MODIFIED:20240704T084322Z
UID:1682-1722195000-1722204000@lebouibouidupays.fr
SUMMARY:Duo Vazquez-Aceituno\, chansons de la America morena
DESCRIPTION:Le duo Vazquez-Aceituno combine instruments traditionnels et emblématiques de la culture sudaméricaine.\nJuan Manuel interprète et ouvre la voie à la poésie populaire\, tandis que Jeronimo aborde la rythmique de manière ludique à partir d’instruments de percussions de la Pampa et des Andes.\nAu creux d’une poignée d’histoires\, ils jouent des chacareras\, des zambas mais encore des festejos\, des landos ou des milongas\, pour raconter les coutumes et les résistances de gens de la America morena (Amérique castillanophone métissée).
URL:https://lebouibouidupays.fr/calendrier/duo-vazquez-aceituno-chansons-de-la-america-morena/
LOCATION:Le Boui Boui du Pays\, le Boui Boui du Pays\, Varen\, 82330\, France
CATEGORIES:Concert
ATTACH;FMTTYPE=image/jpeg:https://lebouibouidupays.fr/wp-content/uploads/2024/07/DUO-2024.jpg
END:VEVENT
BEGIN:VEVENT
DTSTART;TZID=Europe/Paris:20240730T193000
DTEND;TZID=Europe/Paris:20240730T213000
DTSTAMP:20260423T163119
CREATED:20240705T083445Z
LAST-MODIFIED:20240730T142828Z
UID:1728-1722367800-1722375000@lebouibouidupays.fr
SUMMARY:Where is Brian ?
DESCRIPTION:
URL:https://lebouibouidupays.fr/calendrier/where-is-brian-2/
LOCATION:Le Boui Boui du Pays\, le Boui Boui du Pays\, Varen\, 82330\, France
CATEGORIES:Concert
ATTACH;FMTTYPE=image/jpeg:https://lebouibouidupays.fr/wp-content/uploads/2024/07/Where-is-Brian_.jpg
END:VEVENT
END:VCALENDAR