BEGIN:VCALENDAR
VERSION:2.0
PRODID:-//Le Boui Boui du Pays - ECPv6.15.20//NONSGML v1.0//EN
CALSCALE:GREGORIAN
METHOD:PUBLISH
X-ORIGINAL-URL:https://lebouibouidupays.fr
X-WR-CALDESC:Évènements pour Le Boui Boui du Pays
REFRESH-INTERVAL;VALUE=DURATION:PT1H
X-Robots-Tag:noindex
X-PUBLISHED-TTL:PT1H
BEGIN:VTIMEZONE
TZID:Europe/Paris
BEGIN:DAYLIGHT
TZOFFSETFROM:+0100
TZOFFSETTO:+0200
TZNAME:CEST
DTSTART:20220327T010000
END:DAYLIGHT
BEGIN:STANDARD
TZOFFSETFROM:+0200
TZOFFSETTO:+0100
TZNAME:CET
DTSTART:20221030T010000
END:STANDARD
BEGIN:DAYLIGHT
TZOFFSETFROM:+0100
TZOFFSETTO:+0200
TZNAME:CEST
DTSTART:20230326T010000
END:DAYLIGHT
BEGIN:STANDARD
TZOFFSETFROM:+0200
TZOFFSETTO:+0100
TZNAME:CET
DTSTART:20231029T010000
END:STANDARD
BEGIN:DAYLIGHT
TZOFFSETFROM:+0100
TZOFFSETTO:+0200
TZNAME:CEST
DTSTART:20240331T010000
END:DAYLIGHT
BEGIN:STANDARD
TZOFFSETFROM:+0200
TZOFFSETTO:+0100
TZNAME:CET
DTSTART:20241027T010000
END:STANDARD
END:VTIMEZONE
BEGIN:VEVENT
DTSTART;TZID=Europe/Paris:20231001T123000
DTEND;TZID=Europe/Paris:20231001T170000
DTSTAMP:20260424T073713
CREATED:20230920T104937Z
LAST-MODIFIED:20230920T104937Z
UID:1376-1696163400-1696179600@lebouibouidupays.fr
SUMMARY:Les Bandits du Pays
DESCRIPTION:Premier évènement de la saison autour d’un brunch\, comme Gaël nous revient d’Irlande pour quelques jours nous en profitons pour vous proposer ce concert qui sera l’un des dernier de la formation que nous aimons tant !
URL:https://lebouibouidupays.fr/calendrier/les-bandits-du-pays-2/
LOCATION:Le Boui Boui du Pays\, le Boui Boui du Pays\, Varen\, 82330\, France
CATEGORIES:Concert
ATTACH;FMTTYPE=image/jpeg:https://lebouibouidupays.fr/wp-content/uploads/2022/10/lesbanditsaubouiboui.jpg
END:VEVENT
BEGIN:VEVENT
DTSTART;TZID=Europe/Paris:20231015T160000
DTEND;TZID=Europe/Paris:20231015T183000
DTSTAMP:20260424T073713
CREATED:20231008T151535Z
LAST-MODIFIED:20231008T151535Z
UID:1396-1697385600-1697394600@lebouibouidupays.fr
SUMMARY:Brunch et concert de Moon Naïm & El Mizen
DESCRIPTION:Pour cette journée de fermeture en mode brunch nous aurons le plaisir d’accueillir Moon Naïm & El Mizen en trio pour un concert de MAGHREB AFROBEAT avec une fois de plus Stéphane Gratteau à la batterie ! \nAttention le concert commencera vers 16h00 après le brunch et nous seront fermés le soir\, nous n’accepterons plus de nouveaux adhérents à partir de 15H ! \nGnawa\, Afrobeat\, Afrique du nord\, Afrodescendance\, Amazigh\nMoon Naïm & El Mizen mêle la musique Gnawiya et les chants et rythmes d’Afrique du nord à d’autres musiques Afro caribéennes ou du Sahel\, pour créer un genre appelé MAGHREB AFROBEAT.\nAvec:\nFermin Orlando à la guitare et aux choeurs\nStephane Gratteau à la batterie\nMounaïm Rabahi  » Moon Naïm » au Guembri\, chant et percussions \nhttps://www.facebook.com/profile.php?id=100071100955374
URL:https://lebouibouidupays.fr/calendrier/brunch-et-concert-de-moon-naim-el-mizen/
LOCATION:Le Boui Boui du Pays\, le Boui Boui du Pays\, Varen\, 82330\, France
CATEGORIES:Concert
ATTACH;FMTTYPE=image/jpeg:https://lebouibouidupays.fr/wp-content/uploads/2023/10/Moon-Naim-El-Mizen.jpg
END:VEVENT
END:VCALENDAR