BEGIN:VCALENDAR
VERSION:2.0
PRODID:-//Le Boui Boui du Pays - ECPv6.15.20//NONSGML v1.0//EN
CALSCALE:GREGORIAN
METHOD:PUBLISH
X-ORIGINAL-URL:https://lebouibouidupays.fr
X-WR-CALDESC:Évènements pour Le Boui Boui du Pays
REFRESH-INTERVAL;VALUE=DURATION:PT1H
X-Robots-Tag:noindex
X-PUBLISHED-TTL:PT1H
BEGIN:VTIMEZONE
TZID:Europe/Paris
BEGIN:DAYLIGHT
TZOFFSETFROM:+0100
TZOFFSETTO:+0200
TZNAME:CEST
DTSTART:20220327T010000
END:DAYLIGHT
BEGIN:STANDARD
TZOFFSETFROM:+0200
TZOFFSETTO:+0100
TZNAME:CET
DTSTART:20221030T010000
END:STANDARD
BEGIN:DAYLIGHT
TZOFFSETFROM:+0100
TZOFFSETTO:+0200
TZNAME:CEST
DTSTART:20230326T010000
END:DAYLIGHT
BEGIN:STANDARD
TZOFFSETFROM:+0200
TZOFFSETTO:+0100
TZNAME:CET
DTSTART:20231029T010000
END:STANDARD
BEGIN:DAYLIGHT
TZOFFSETFROM:+0100
TZOFFSETTO:+0200
TZNAME:CEST
DTSTART:20240331T010000
END:DAYLIGHT
BEGIN:STANDARD
TZOFFSETFROM:+0200
TZOFFSETTO:+0100
TZNAME:CET
DTSTART:20241027T010000
END:STANDARD
END:VTIMEZONE
BEGIN:VEVENT
DTSTART;TZID=Europe/Paris:20230801T193000
DTEND;TZID=Europe/Paris:20230801T223000
DTSTAMP:20260424T112528
CREATED:20230702T174140Z
LAST-MODIFIED:20230702T174140Z
UID:1211-1690918200-1690929000@lebouibouidupays.fr
SUMMARY:The G.O.G
DESCRIPTION:Le Grand Orchestre de la Gresigne qui est la Fanfare du paīs \, au répertoire éclectique et encaustique \, 100% acoustique . Donc une curiosité touristique qui mérite le détour en ce soir de pleine lune Ouuuuuuuuuuh
URL:https://lebouibouidupays.fr/calendrier/the-g-o-g/
LOCATION:Le Boui Boui du Pays\, le Boui Boui du Pays\, Varen\, 82330\, France
CATEGORIES:Concert
ATTACH;FMTTYPE=image/jpeg:https://lebouibouidupays.fr/wp-content/uploads/2023/07/GOG-scaled.jpg
END:VEVENT
BEGIN:VEVENT
DTSTART;TZID=Europe/Paris:20230804T193000
DTEND;TZID=Europe/Paris:20230804T230000
DTSTAMP:20260424T112528
CREATED:20230502T081353Z
LAST-MODIFIED:20230523T141324Z
UID:905-1691177400-1691190000@lebouibouidupays.fr
SUMMARY:Fantadamali
DESCRIPTION:Après nous avoir enchanté l’été dernier ils nous font l’honneur de revenir cette année\, attention ça va danser ! \nLa musique de Fantadamali se révèle comme un jour nouveau\, débute dans l’intimité du petit matin\, calme et apaisant. Les premières notes de Kora conduisent le Chant en Bambara vers les premières lueurs. On pourrait alors apercevoir les collines du Mandé s’illuminant dans la brume matinale. Puis la lumière monte\, les couleurs de la nuit laissent la place à celles du jour. Le son de l’Accordéon enrichit les discussions\, le pied des Percussions anime le mouvement. On échange nos points de vue\, on se donne des conseils\, on parle de la vie\, on s’invite dans l’ambiance chaude d’une fête de brousse où l’on refait le monde\, où l’on chante\, où l’on danse. On réalise alors quelle chance nous avons d’être là et d’être ensemble ! \n  \n \nhttps://www.facebook.com/fantadamali/\nhttps://www.instagram.com/fantadamali/\nhttp://www.fantadamali.com/ \nLes Musiciens\nFanta Sayon Sissoko : Voix\nAdama Keita : Kora\nFlorian Tatard : Accordéon\nStéphane Gratteau ; Batterie
URL:https://lebouibouidupays.fr/calendrier/fantadamali/
LOCATION:Le Boui Boui du Pays\, le Boui Boui du Pays\, Varen\, 82330\, France
CATEGORIES:Concert
ATTACH;FMTTYPE=image/jpeg:https://lebouibouidupays.fr/wp-content/uploads/2023/05/FantadamaliBouiBoui2022.jpg
END:VEVENT
BEGIN:VEVENT
DTSTART;TZID=Europe/Paris:20230806T193000
DTEND;TZID=Europe/Paris:20230806T230000
DTSTAMP:20260424T112528
CREATED:20230502T064608Z
LAST-MODIFIED:20230510T202629Z
UID:882-1691350200-1691362800@lebouibouidupays.fr
SUMMARY:Amazigh
DESCRIPTION:« Amazigh nous invite à un étonnant voyage culturel en nous proposant une version revisitée et moderne de la musique kabyle. Ici\, les rythmes traditionnelles (chaabi) se retrouvent contaminés par des grooves empruntés au jazz and funk. Innovant et envoûtant\, libre et électrique\, épique et psychédélique\, l’univers d’Amazigh est saisissant\, riche de son métissage.\n\nSur scène\, Amazigh rassemble. Les familles\, les cultures\, les générations : Tous se donnent rendez vous pour inventer la fête de demain. »\n\n\n\n\n\n\n\n\n\n\n\n\n\n\n\n\n\n\n\nVidéos: \n \n \n \nhttps://www.facebook.com/laetitiagigotjyacosmos/videos/582138703122250 \n \nvidéo présentation set trad’acoustique: \nhttps://www.youtube.com/watch?v=PkflJ5p_NOw \n 
URL:https://lebouibouidupays.fr/calendrier/amazigh/
LOCATION:Le Boui Boui du Pays\, le Boui Boui du Pays\, Varen\, 82330\, France
CATEGORIES:Concert
ATTACH;FMTTYPE=image/jpeg:https://lebouibouidupays.fr/wp-content/uploads/2023/05/Amazigh.jpg
END:VEVENT
BEGIN:VEVENT
DTSTART;TZID=Europe/Paris:20230808T193000
DTEND;TZID=Europe/Paris:20230808T230000
DTSTAMP:20260424T112528
CREATED:20230704T172735Z
LAST-MODIFIED:20230704T172735Z
UID:1008-1691523000-1691535600@lebouibouidupays.fr
SUMMARY:Les Crickets
DESCRIPTION:Les Crickets\, des compos et des tubes détournés en bluegrass\, avec une énergie rock\, un son acoustique\, et un esprit festif… \nLes Crickets vous invitent au voyage transatlantique en distillant un son très campagnard de western électroacoustique ou de bluegrass … comme vous voulez … Leur créneau : la pop bluegrass !!! C’est quoi ? Eh ben tu prends ton tube préféré\, tu remplaces le synthé par une mandoline ou un violon\, tu y ajoutes une guitare acoustique qui pilonne\, une contrebasse et une batterie qui percutent\, un bon accent du Texas et c’est parti yipieyeah !!!!!!! Bref le son Folk Américain acoustique à fond les ballons qui trouve ses racines dans le Blues\, le traditionnel Anglo-Irlandais et qui s’appuie sur une très grande recherche musicale\, travaillée dans le détail. \nCes trois lotois – Fred (Contrebasse) – Fafa (Guitare\, ukubanjo\, chant) – Julien (Mandoline\, Violon) – forment le seul et unique groupe Français à s’aventurer dans ce style; il compte à son actif pas moins de trois EP\, et plus de quarante concerts en moins de deux années d’existence… \n\nhttps://www.youtube.com/watch?v=FHC2YabTgCs\nhttps://www.youtube.com/watch?v=3fR1XU09ahU\nhttps://www.youtube.com/watch?v=uAeXFlKde24\nhttps://www.youtube.com/watch?v=oUs1Mg7UJzY\nhttps://www.youtube.com/watch?v=DmwP4QTrL80
URL:https://lebouibouidupays.fr/calendrier/les-crickets/
LOCATION:Le Boui Boui du Pays\, le Boui Boui du Pays\, Varen\, 82330\, France
CATEGORIES:Concert
ATTACH;FMTTYPE=image/jpeg:https://lebouibouidupays.fr/wp-content/uploads/2023/05/LogoCriquets-scaled.jpeg
END:VEVENT
BEGIN:VEVENT
DTSTART;TZID=Europe/Paris:20230810T200000
DTEND;TZID=Europe/Paris:20230810T220000
DTSTAMP:20260424T112528
CREATED:20230515T145503Z
LAST-MODIFIED:20230730T082514Z
UID:1052-1691697600-1691704800@lebouibouidupays.fr
SUMMARY:Thierry chante pour vous
DESCRIPTION:VARIÉTÉS Française et Internationales.\nUne soirée REMENBER avec les 60 meilleurs succès des années 60\, 70\, 80\,90 en français\, anglais\, espagnol etc…\nVenez chanter et danser au son de toute la musique….( + Light show).
URL:https://lebouibouidupays.fr/calendrier/thierry-chante-pour-vous-guest/
LOCATION:Le Boui Boui du Pays\, le Boui Boui du Pays\, Varen\, 82330\, France
CATEGORIES:Concert
ATTACH;FMTTYPE=image/png:https://lebouibouidupays.fr/wp-content/uploads/2022/06/thierry-chante-pour-vous.png
END:VEVENT
BEGIN:VEVENT
DTSTART;TZID=Europe/Paris:20230812T193000
DTEND;TZID=Europe/Paris:20230812T230000
DTSTAMP:20260424T112528
CREATED:20230612T090651Z
LAST-MODIFIED:20230612T091414Z
UID:1172-1691868600-1691881200@lebouibouidupays.fr
SUMMARY:Qu’une tête de jazz 
DESCRIPTION:Qu’une tête de jazz est un solo musical où l’artiste (trompette\, batterie\, chant …) construit sa musique en direct. \nStandards de jazz et musique du monde sont au programme (durée du concert 1h30) et quelques instruments atypiques offrant au public une performance instrumentale et dansante. \nQu’une tête de jazz – Mambo influenciado\nVersion solo de Mambo influenciado (Chucho Valdes). Stéphane Gratteau: Cornet\, Batterie\, looper \n \n \nhttps://www.difymusic.com/qu-unetetedejazzhttps://www.numberonemusic.com/stphanegratteau \nhttps://www.difymusic.com/qu-unetetedejazz \n 
URL:https://lebouibouidupays.fr/calendrier/quune-tete-de-jazz/
LOCATION:Le Boui Boui du Pays\, le Boui Boui du Pays\, Varen\, 82330\, France
CATEGORIES:Concert
ATTACH;FMTTYPE=image/png:https://lebouibouidupays.fr/wp-content/uploads/2021/06/image.png
END:VEVENT
BEGIN:VEVENT
DTSTART;TZID=Europe/Paris:20230815T193000
DTEND;TZID=Europe/Paris:20230815T230000
DTSTAMP:20260424T112528
CREATED:20230710T122655Z
LAST-MODIFIED:20230710T123438Z
UID:1249-1692127800-1692140400@lebouibouidupays.fr
SUMMARY:Les Improzikos
DESCRIPTION:https://improzikos.fr/
URL:https://lebouibouidupays.fr/calendrier/les-improzikos/
LOCATION:Le Boui Boui du Pays\, le Boui Boui du Pays\, Varen\, 82330\, France
CATEGORIES:Concert
ATTACH;FMTTYPE=image/webp:https://lebouibouidupays.fr/wp-content/uploads/2023/07/improzikos.webp
END:VEVENT
BEGIN:VEVENT
DTSTART;TZID=Europe/Paris:20230819T193000
DTEND;TZID=Europe/Paris:20230819T230000
DTSTAMP:20260424T112528
CREATED:20230510T071024Z
LAST-MODIFIED:20230510T071024Z
UID:982-1692473400-1692486000@lebouibouidupays.fr
SUMMARY:Femme Squelette
DESCRIPTION:  \n \n \n  \nhttps://linktr.ee/femmesquelette \n 
URL:https://lebouibouidupays.fr/calendrier/femme-squelette/
LOCATION:Le Boui Boui du Pays\, le Boui Boui du Pays\, Varen\, 82330\, France
CATEGORIES:Concert
ATTACH;FMTTYPE=image/jpeg:https://lebouibouidupays.fr/wp-content/uploads/2023/05/Femme-Squelette.jpg
END:VEVENT
BEGIN:VEVENT
DTSTART;TZID=Europe/Paris:20230822T193000
DTEND;TZID=Europe/Paris:20230822T223000
DTSTAMP:20260424T112528
CREATED:20230801T094356Z
LAST-MODIFIED:20230801T094356Z
UID:1316-1692732600-1692743400@lebouibouidupays.fr
SUMMARY:Duo Dolphin - Eva HAHN / Fred BAMBOU
DESCRIPTION:Deux artistes à multiples facettes\, instrumentistes et parolières\, proposent un concert aux sonorités surprenantes\, mêlant thèmes anciens et compositions originales. \nChants d’amour\, chants de lutte et de dérision s’amusent dans des langues européennes connues ou oubliées ou … inventées\, \nLes instruments du monde\, et parmi eux la flûte japonaise Shakuhachi d’Eva HAHN et les créations d’instruments de Fred BAMBOU apportent au Duo Dolphin un éclat de douceur d’ailleurs – joyeux\, profond et farfelu. \nEva Hahn et Fred Bambou : Cordes\, percussions\, souffles et chants
URL:https://lebouibouidupays.fr/calendrier/duo-dolphin-eva-hahn-fred-bambou/
LOCATION:Le Boui Boui du Pays\, le Boui Boui du Pays\, Varen\, 82330\, France
CATEGORIES:Concert
ATTACH;FMTTYPE=image/jpeg:https://lebouibouidupays.fr/wp-content/uploads/2023/08/Duo-Dolphin_Eva-HAHN_Fred-BAMBOU-scaled.jpg
END:VEVENT
BEGIN:VEVENT
DTSTART;TZID=Europe/Paris:20230825T193000
DTEND;TZID=Europe/Paris:20230825T230000
DTSTAMP:20260424T112528
CREATED:20230602T065145Z
LAST-MODIFIED:20230603T065512Z
UID:1133-1692991800-1693004400@lebouibouidupays.fr
SUMMARY:Where is Brian ?
DESCRIPTION:En 2023\, pour sa tournée « French Machine »\, le duo \n« Where is Brian ?… » réinvente les hits anglo-saxons des années 80/90 à la sauce électro-guinguette. \nInfluencé par Gotan Project ou Caravan Palace\, sur scène WIB propose un spectacle électrisant à l’esthétique soignée\, à mi-chemin entre bal-distingué et cabaret-burlesque ! \nLes musiciens : \nBérangère (chant)\, Patrick Neulat (accordéon)\, Juan Kowalczewski (prog machine) \nContact : \n07.83.12.47.79 \nDunbout-alautre@orange.fr \nUn beau clip tourné cet hiver au Studio la lune rouge à 3km du Boui Boui !
URL:https://lebouibouidupays.fr/calendrier/where-is-brian/
LOCATION:Le Boui Boui du Pays\, le Boui Boui du Pays\, Varen\, 82330\, France
CATEGORIES:Concert
ATTACH;FMTTYPE=image/jpeg:https://lebouibouidupays.fr/wp-content/uploads/2023/06/WIB-2023.jpg
END:VEVENT
BEGIN:VEVENT
DTSTART;TZID=Europe/Paris:20230827T193000
DTEND;TZID=Europe/Paris:20230827T230000
DTSTAMP:20260424T112528
CREATED:20230716T133800Z
LAST-MODIFIED:20230716T133800Z
UID:1271-1693164600-1693177200@lebouibouidupays.fr
SUMMARY:Conyunto Vaya Nacho
DESCRIPTION:Vallenato colombien de Berlin \n \nPour écouter c’est ici; \nhttps://conjuntovayanacho.bandcamp.com/album/conjunto-vaya-nacho \nhttps://conjuntovayanacho.bandcamp.com/album/esa-murio-la-flor-single
URL:https://lebouibouidupays.fr/calendrier/conyunto-vaya-nacho/
LOCATION:Le Boui Boui du Pays\, le Boui Boui du Pays\, Varen\, 82330\, France
CATEGORIES:Concert
ATTACH;FMTTYPE=image/jpeg:https://lebouibouidupays.fr/wp-content/uploads/2023/07/CVN-Band-Foto-June-2023.jpg
END:VEVENT
BEGIN:VEVENT
DTSTART;TZID=Europe/Paris:20230829T080000
DTEND;TZID=Europe/Paris:20230829T170000
DTSTAMP:20260424T112528
CREATED:20230722T101007Z
LAST-MODIFIED:20230722T101007Z
UID:1306-1693296000-1693328400@lebouibouidupays.fr
SUMMARY:Les sistères de bois
DESCRIPTION:PRESENTATION DU SPECTACLE«Le progrès» \nUn spectacle écrit\, mis en scène et interprété parJulie Rigou \, Sophie Plattner\, et Christelle Carisetti »Les Sistères de bois »Trio Claquettes et Goguettes Rétro-progressiste \nDURÉE : 35 min     TOUT PUBLICContact Diffusion : julierigou@protonmail.com / 06 09 01 93 42 \nSYNOPSISLes Sistères de bois\, arrivées tout droit de la Forêt de la Grésigne à cheval (sur le rythme mais aussi surle style …) nous racontent comment elles ont été propulsées dans la grande aventure du… »Progrès » !notamment grâce à leur rencontre passionnée avec Mr Smartphone…Un spectacle plein d’énergie\, de fraîcheur et d’autodérision qui mêle claquettes\, sketch et chanson kitsch.Tout cela avec un regard critique sur notre société du tout numérique. \nHISTORIQUEAprès plusieurs années à pratiquer ensemble les claquettes\, ces trois artistes tarnaises ont eu l’envie de seretrouver pour co-créer un spectacle mêlant claquettes\, chanson\, humour tout en questionnant la place de latechnologie dans nos vies. Après avoir présenté en 2021 une forme courte du spectacle aux « Balladines de Penne »et reçu un accueil très enthousiaste du public\, elles décident de se lancer dans l’écriture d’un spectacle.Le format actuel est de 35 min et il réjouit autant les petits (par son aspect visuel\, clownesque et musical) que lesgrands (par son humour grinçant…) \nLES ARTISTESJulie RigouDanseuse ( »Te Cotton Club »\,  »Cie L’Art en scène »…)\, Chorégraphe et Metteuse en scène( »Les Foux de l’Amour »  »Be Bop Swing ») Professeure de Danse Jazz et de ClaquettesDiplomée d’Etat ( CND Paris) depuis plus de 15 ans à Toulouse et dans le Tarn\,Intervenante en percussion corporelle agrée de l’Education nationale (ADDA81\, Cri duChoeur\, Asso ARTEMPO etc…)\, instrumentiste dans le steel band  »Chroma Steel » . \nSophie PlattnerComédienne théâtre\, cinéma et chanson( Cie Parler debout\, Lez’Armuses…)\,Formée au jeu d’acteur au Théâtre nationale de Chaillot.Prix d’interprétation fondation Charles Oulmont. Licence d’Art du spectacle.Intervenante Théâtre en milieu scolaire (Ecriture\, Jeu\, théâtre forum). Enseignement de lamusique à l’école de musique « Le Rock d’Anglars » à St Antonin : violon\, chorale enfants… \nChristelle CarisettiFormée à l’éveil musical par l’association Do-ré-mi-fa soleil en 2009.Intervenante musicale pour la petite enfance en crèche\, relais d’assistantes maternelles\, écoles\,médiathèques et maisons de retraite.Comédienne et musicienne dans le duo « les karakoleuses ».AESH depuis 2020 \n  \n \nhttps://drive.google.com/file/d/104sPPm9zMwQHUEXvThufUp2A2mlTstj_/view?pli=1 \n 
URL:https://lebouibouidupays.fr/calendrier/les-sisteres-de-bois/
LOCATION:Le Boui Boui du Pays\, le Boui Boui du Pays\, Varen\, 82330\, France
CATEGORIES:Concert
ATTACH;FMTTYPE=image/png:https://lebouibouidupays.fr/wp-content/uploads/2023/07/Les-sisteres-de-bois.png
END:VEVENT
END:VCALENDAR